BEGIN:VCALENDAR
VERSION:2.0
PRODID:-//Fenland Archery Club - ECPv6.15.20//NONSGML v1.0//EN
CALSCALE:GREGORIAN
METHOD:PUBLISH
X-ORIGINAL-URL:https://www.fenlandarchery.co.uk
X-WR-CALDESC:Events for Fenland Archery Club
REFRESH-INTERVAL;VALUE=DURATION:PT1H
X-Robots-Tag:noindex
X-PUBLISHED-TTL:PT1H
BEGIN:VTIMEZONE
TZID:UTC
BEGIN:STANDARD
TZOFFSETFROM:+0000
TZOFFSETTO:+0000
TZNAME:UTC
DTSTART:20270101T000000
END:STANDARD
END:VTIMEZONE
BEGIN:VEVENT
DTSTART;TZID=UTC:20281230T090000
DTEND;TZID=UTC:20281230T120000
DTSTAMP:20260419T213542
CREATED:20240715T115600Z
LAST-MODIFIED:20240715T115701Z
UID:10001026-1861779600-1861790400@www.fenlandarchery.co.uk
SUMMARY:Attendance Saturdays
DESCRIPTION:
URL:https://www.fenlandarchery.co.uk/event/attendance-saturdays/2028-12-30/
CATEGORIES:Attendance Saturdays
END:VEVENT
BEGIN:VEVENT
DTSTART;TZID=UTC:20290106T090000
DTEND;TZID=UTC:20290106T120000
DTSTAMP:20260419T213542
CREATED:20240715T115600Z
LAST-MODIFIED:20240715T115701Z
UID:10001027-1862384400-1862395200@www.fenlandarchery.co.uk
SUMMARY:Attendance Saturdays
DESCRIPTION:
URL:https://www.fenlandarchery.co.uk/event/attendance-saturdays/2029-01-06/
CATEGORIES:Attendance Saturdays
END:VEVENT
BEGIN:VEVENT
DTSTART;TZID=UTC:20290113T090000
DTEND;TZID=UTC:20290113T120000
DTSTAMP:20260419T213542
CREATED:20240715T115600Z
LAST-MODIFIED:20240715T115701Z
UID:10001028-1862989200-1863000000@www.fenlandarchery.co.uk
SUMMARY:Attendance Saturdays
DESCRIPTION:
URL:https://www.fenlandarchery.co.uk/event/attendance-saturdays/2029-01-13/
CATEGORIES:Attendance Saturdays
END:VEVENT
BEGIN:VEVENT
DTSTART;TZID=UTC:20290120T090000
DTEND;TZID=UTC:20290120T120000
DTSTAMP:20260419T213542
CREATED:20240715T115600Z
LAST-MODIFIED:20240715T115701Z
UID:10001029-1863594000-1863604800@www.fenlandarchery.co.uk
SUMMARY:Attendance Saturdays
DESCRIPTION:
URL:https://www.fenlandarchery.co.uk/event/attendance-saturdays/2029-01-20/
CATEGORIES:Attendance Saturdays
END:VEVENT
BEGIN:VEVENT
DTSTART;TZID=UTC:20290127T090000
DTEND;TZID=UTC:20290127T120000
DTSTAMP:20260419T213542
CREATED:20240715T115600Z
LAST-MODIFIED:20240715T115701Z
UID:10001030-1864198800-1864209600@www.fenlandarchery.co.uk
SUMMARY:Attendance Saturdays
DESCRIPTION:
URL:https://www.fenlandarchery.co.uk/event/attendance-saturdays/2029-01-27/
CATEGORIES:Attendance Saturdays
END:VEVENT
BEGIN:VEVENT
DTSTART;TZID=UTC:20290203T090000
DTEND;TZID=UTC:20290203T120000
DTSTAMP:20260419T213542
CREATED:20240715T115600Z
LAST-MODIFIED:20240715T115701Z
UID:10001031-1864803600-1864814400@www.fenlandarchery.co.uk
SUMMARY:Attendance Saturdays
DESCRIPTION:
URL:https://www.fenlandarchery.co.uk/event/attendance-saturdays/2029-02-03/
CATEGORIES:Attendance Saturdays
END:VEVENT
BEGIN:VEVENT
DTSTART;TZID=UTC:20290210T090000
DTEND;TZID=UTC:20290210T120000
DTSTAMP:20260419T213542
CREATED:20240715T115600Z
LAST-MODIFIED:20240715T115701Z
UID:10001032-1865408400-1865419200@www.fenlandarchery.co.uk
SUMMARY:Attendance Saturdays
DESCRIPTION:
URL:https://www.fenlandarchery.co.uk/event/attendance-saturdays/2029-02-10/
CATEGORIES:Attendance Saturdays
END:VEVENT
BEGIN:VEVENT
DTSTART;TZID=UTC:20290217T090000
DTEND;TZID=UTC:20290217T120000
DTSTAMP:20260419T213542
CREATED:20240715T115600Z
LAST-MODIFIED:20240715T115701Z
UID:10001033-1866013200-1866024000@www.fenlandarchery.co.uk
SUMMARY:Attendance Saturdays
DESCRIPTION:
URL:https://www.fenlandarchery.co.uk/event/attendance-saturdays/2029-02-17/
CATEGORIES:Attendance Saturdays
END:VEVENT
BEGIN:VEVENT
DTSTART;TZID=UTC:20290224T090000
DTEND;TZID=UTC:20290224T120000
DTSTAMP:20260419T213542
CREATED:20240715T115600Z
LAST-MODIFIED:20240715T115701Z
UID:10001034-1866618000-1866628800@www.fenlandarchery.co.uk
SUMMARY:Attendance Saturdays
DESCRIPTION:
URL:https://www.fenlandarchery.co.uk/event/attendance-saturdays/2029-02-24/
CATEGORIES:Attendance Saturdays
END:VEVENT
BEGIN:VEVENT
DTSTART;TZID=UTC:20290303T090000
DTEND;TZID=UTC:20290303T120000
DTSTAMP:20260419T213542
CREATED:20240715T115600Z
LAST-MODIFIED:20240715T115701Z
UID:10001035-1867222800-1867233600@www.fenlandarchery.co.uk
SUMMARY:Attendance Saturdays
DESCRIPTION:
URL:https://www.fenlandarchery.co.uk/event/attendance-saturdays/2029-03-03/
CATEGORIES:Attendance Saturdays
END:VEVENT
BEGIN:VEVENT
DTSTART;TZID=UTC:20290310T090000
DTEND;TZID=UTC:20290310T120000
DTSTAMP:20260419T213542
CREATED:20240715T115600Z
LAST-MODIFIED:20240715T115701Z
UID:10001036-1867827600-1867838400@www.fenlandarchery.co.uk
SUMMARY:Attendance Saturdays
DESCRIPTION:
URL:https://www.fenlandarchery.co.uk/event/attendance-saturdays/2029-03-10/
CATEGORIES:Attendance Saturdays
END:VEVENT
BEGIN:VEVENT
DTSTART;TZID=UTC:20290317T090000
DTEND;TZID=UTC:20290317T120000
DTSTAMP:20260419T213542
CREATED:20240715T115600Z
LAST-MODIFIED:20240715T115701Z
UID:10001037-1868432400-1868443200@www.fenlandarchery.co.uk
SUMMARY:Attendance Saturdays
DESCRIPTION:
URL:https://www.fenlandarchery.co.uk/event/attendance-saturdays/2029-03-17/
CATEGORIES:Attendance Saturdays
END:VEVENT
BEGIN:VEVENT
DTSTART;TZID=UTC:20290324T090000
DTEND;TZID=UTC:20290324T120000
DTSTAMP:20260419T213542
CREATED:20240715T115600Z
LAST-MODIFIED:20240715T115701Z
UID:10001038-1869037200-1869048000@www.fenlandarchery.co.uk
SUMMARY:Attendance Saturdays
DESCRIPTION:
URL:https://www.fenlandarchery.co.uk/event/attendance-saturdays/2029-03-24/
CATEGORIES:Attendance Saturdays
END:VEVENT
BEGIN:VEVENT
DTSTART;TZID=UTC:20290331T090000
DTEND;TZID=UTC:20290331T120000
DTSTAMP:20260419T213542
CREATED:20240715T115600Z
LAST-MODIFIED:20240715T115701Z
UID:10001039-1869642000-1869652800@www.fenlandarchery.co.uk
SUMMARY:Attendance Saturdays
DESCRIPTION:
URL:https://www.fenlandarchery.co.uk/event/attendance-saturdays/2029-03-31/
CATEGORIES:Attendance Saturdays
END:VEVENT
BEGIN:VEVENT
DTSTART;TZID=UTC:20290407T090000
DTEND;TZID=UTC:20290407T120000
DTSTAMP:20260419T213542
CREATED:20240715T115600Z
LAST-MODIFIED:20240715T115701Z
UID:10001040-1870246800-1870257600@www.fenlandarchery.co.uk
SUMMARY:Attendance Saturdays
DESCRIPTION:
URL:https://www.fenlandarchery.co.uk/event/attendance-saturdays/2029-04-07/
CATEGORIES:Attendance Saturdays
END:VEVENT
BEGIN:VEVENT
DTSTART;TZID=UTC:20290414T090000
DTEND;TZID=UTC:20290414T120000
DTSTAMP:20260419T213542
CREATED:20240715T115600Z
LAST-MODIFIED:20240715T115701Z
UID:10001041-1870851600-1870862400@www.fenlandarchery.co.uk
SUMMARY:Attendance Saturdays
DESCRIPTION:
URL:https://www.fenlandarchery.co.uk/event/attendance-saturdays/2029-04-14/
CATEGORIES:Attendance Saturdays
END:VEVENT
BEGIN:VEVENT
DTSTART;TZID=UTC:20290421T090000
DTEND;TZID=UTC:20290421T120000
DTSTAMP:20260419T213542
CREATED:20240715T115600Z
LAST-MODIFIED:20240715T115701Z
UID:10001042-1871456400-1871467200@www.fenlandarchery.co.uk
SUMMARY:Attendance Saturdays
DESCRIPTION:
URL:https://www.fenlandarchery.co.uk/event/attendance-saturdays/2029-04-21/
CATEGORIES:Attendance Saturdays
END:VEVENT
BEGIN:VEVENT
DTSTART;TZID=UTC:20290428T090000
DTEND;TZID=UTC:20290428T120000
DTSTAMP:20260419T213542
CREATED:20240715T115600Z
LAST-MODIFIED:20240715T115701Z
UID:10001043-1872061200-1872072000@www.fenlandarchery.co.uk
SUMMARY:Attendance Saturdays
DESCRIPTION:
URL:https://www.fenlandarchery.co.uk/event/attendance-saturdays/2029-04-28/
CATEGORIES:Attendance Saturdays
END:VEVENT
BEGIN:VEVENT
DTSTART;TZID=UTC:20290505T090000
DTEND;TZID=UTC:20290505T120000
DTSTAMP:20260419T213542
CREATED:20240715T115600Z
LAST-MODIFIED:20240715T115701Z
UID:10001044-1872666000-1872676800@www.fenlandarchery.co.uk
SUMMARY:Attendance Saturdays
DESCRIPTION:
URL:https://www.fenlandarchery.co.uk/event/attendance-saturdays/2029-05-05/
CATEGORIES:Attendance Saturdays
END:VEVENT
BEGIN:VEVENT
DTSTART;TZID=UTC:20290512T090000
DTEND;TZID=UTC:20290512T120000
DTSTAMP:20260419T213542
CREATED:20240715T115600Z
LAST-MODIFIED:20240715T115701Z
UID:10001045-1873270800-1873281600@www.fenlandarchery.co.uk
SUMMARY:Attendance Saturdays
DESCRIPTION:
URL:https://www.fenlandarchery.co.uk/event/attendance-saturdays/2029-05-12/
CATEGORIES:Attendance Saturdays
END:VEVENT
BEGIN:VEVENT
DTSTART;TZID=UTC:20290519T090000
DTEND;TZID=UTC:20290519T120000
DTSTAMP:20260419T213542
CREATED:20240715T115600Z
LAST-MODIFIED:20240715T115701Z
UID:10001046-1873875600-1873886400@www.fenlandarchery.co.uk
SUMMARY:Attendance Saturdays
DESCRIPTION:
URL:https://www.fenlandarchery.co.uk/event/attendance-saturdays/2029-05-19/
CATEGORIES:Attendance Saturdays
END:VEVENT
BEGIN:VEVENT
DTSTART;TZID=UTC:20290526T090000
DTEND;TZID=UTC:20290526T120000
DTSTAMP:20260419T213542
CREATED:20240715T115600Z
LAST-MODIFIED:20240715T115701Z
UID:10001047-1874480400-1874491200@www.fenlandarchery.co.uk
SUMMARY:Attendance Saturdays
DESCRIPTION:
URL:https://www.fenlandarchery.co.uk/event/attendance-saturdays/2029-05-26/
CATEGORIES:Attendance Saturdays
END:VEVENT
BEGIN:VEVENT
DTSTART;TZID=UTC:20290602T090000
DTEND;TZID=UTC:20290602T120000
DTSTAMP:20260419T213542
CREATED:20240715T115600Z
LAST-MODIFIED:20240715T115701Z
UID:10001048-1875085200-1875096000@www.fenlandarchery.co.uk
SUMMARY:Attendance Saturdays
DESCRIPTION:
URL:https://www.fenlandarchery.co.uk/event/attendance-saturdays/2029-06-02/
CATEGORIES:Attendance Saturdays
END:VEVENT
BEGIN:VEVENT
DTSTART;TZID=UTC:20290609T090000
DTEND;TZID=UTC:20290609T120000
DTSTAMP:20260419T213542
CREATED:20240715T115600Z
LAST-MODIFIED:20240715T115701Z
UID:10001049-1875690000-1875700800@www.fenlandarchery.co.uk
SUMMARY:Attendance Saturdays
DESCRIPTION:
URL:https://www.fenlandarchery.co.uk/event/attendance-saturdays/2029-06-09/
CATEGORIES:Attendance Saturdays
END:VEVENT
BEGIN:VEVENT
DTSTART;TZID=UTC:20290616T090000
DTEND;TZID=UTC:20290616T120000
DTSTAMP:20260419T213542
CREATED:20240715T115600Z
LAST-MODIFIED:20240715T115701Z
UID:10001050-1876294800-1876305600@www.fenlandarchery.co.uk
SUMMARY:Attendance Saturdays
DESCRIPTION:
URL:https://www.fenlandarchery.co.uk/event/attendance-saturdays/2029-06-16/
CATEGORIES:Attendance Saturdays
END:VEVENT
BEGIN:VEVENT
DTSTART;TZID=UTC:20290623T090000
DTEND;TZID=UTC:20290623T120000
DTSTAMP:20260419T213542
CREATED:20240715T115600Z
LAST-MODIFIED:20240715T115701Z
UID:10001051-1876899600-1876910400@www.fenlandarchery.co.uk
SUMMARY:Attendance Saturdays
DESCRIPTION:
URL:https://www.fenlandarchery.co.uk/event/attendance-saturdays/2029-06-23/
CATEGORIES:Attendance Saturdays
END:VEVENT
BEGIN:VEVENT
DTSTART;TZID=UTC:20290630T090000
DTEND;TZID=UTC:20290630T120000
DTSTAMP:20260419T213542
CREATED:20240715T115600Z
LAST-MODIFIED:20240715T115701Z
UID:10001052-1877504400-1877515200@www.fenlandarchery.co.uk
SUMMARY:Attendance Saturdays
DESCRIPTION:
URL:https://www.fenlandarchery.co.uk/event/attendance-saturdays/2029-06-30/
CATEGORIES:Attendance Saturdays
END:VEVENT
BEGIN:VEVENT
DTSTART;TZID=UTC:20290707T090000
DTEND;TZID=UTC:20290707T120000
DTSTAMP:20260419T213542
CREATED:20240715T115600Z
LAST-MODIFIED:20240715T115701Z
UID:10001053-1878109200-1878120000@www.fenlandarchery.co.uk
SUMMARY:Attendance Saturdays
DESCRIPTION:
URL:https://www.fenlandarchery.co.uk/event/attendance-saturdays/2029-07-07/
CATEGORIES:Attendance Saturdays
END:VEVENT
BEGIN:VEVENT
DTSTART;TZID=UTC:20290714T090000
DTEND;TZID=UTC:20290714T120000
DTSTAMP:20260419T213542
CREATED:20240715T115600Z
LAST-MODIFIED:20240715T115701Z
UID:10001054-1878714000-1878724800@www.fenlandarchery.co.uk
SUMMARY:Attendance Saturdays
DESCRIPTION:
URL:https://www.fenlandarchery.co.uk/event/attendance-saturdays/2029-07-14/
CATEGORIES:Attendance Saturdays
END:VEVENT
END:VCALENDAR