BEGIN:VCALENDAR
VERSION:2.0
PRODID:-//Fenland Archery Club - ECPv6.15.20//NONSGML v1.0//EN
CALSCALE:GREGORIAN
METHOD:PUBLISH
X-ORIGINAL-URL:https://www.fenlandarchery.co.uk
X-WR-CALDESC:Events for Fenland Archery Club
REFRESH-INTERVAL;VALUE=DURATION:PT1H
X-Robots-Tag:noindex
X-PUBLISHED-TTL:PT1H
BEGIN:VTIMEZONE
TZID:UTC
BEGIN:STANDARD
TZOFFSETFROM:+0000
TZOFFSETTO:+0000
TZNAME:UTC
DTSTART:20250101T000000
END:STANDARD
END:VTIMEZONE
BEGIN:VEVENT
DTSTART;TZID=UTC:20260228T090000
DTEND;TZID=UTC:20260228T120000
DTSTAMP:20260422T220258
CREATED:20240715T115600Z
LAST-MODIFIED:20240715T115701Z
UID:10000878-1772269200-1772280000@www.fenlandarchery.co.uk
SUMMARY:Attendance Saturdays
DESCRIPTION:
URL:https://www.fenlandarchery.co.uk/event/attendance-saturdays/2026-02-28/
CATEGORIES:Attendance Saturdays
END:VEVENT
BEGIN:VEVENT
DTSTART;TZID=UTC:20260307T090000
DTEND;TZID=UTC:20260307T120000
DTSTAMP:20260422T220258
CREATED:20240715T115600Z
LAST-MODIFIED:20240715T115701Z
UID:10000879-1772874000-1772884800@www.fenlandarchery.co.uk
SUMMARY:Attendance Saturdays
DESCRIPTION:
URL:https://www.fenlandarchery.co.uk/event/attendance-saturdays/2026-03-07/
CATEGORIES:Attendance Saturdays
END:VEVENT
BEGIN:VEVENT
DTSTART;TZID=UTC:20260314T090000
DTEND;TZID=UTC:20260314T120000
DTSTAMP:20260422T220258
CREATED:20240715T115600Z
LAST-MODIFIED:20240715T115701Z
UID:10000880-1773478800-1773489600@www.fenlandarchery.co.uk
SUMMARY:Attendance Saturdays
DESCRIPTION:
URL:https://www.fenlandarchery.co.uk/event/attendance-saturdays/2026-03-14/
CATEGORIES:Attendance Saturdays
END:VEVENT
BEGIN:VEVENT
DTSTART;TZID=UTC:20260321T090000
DTEND;TZID=UTC:20260321T120000
DTSTAMP:20260422T220258
CREATED:20240715T115600Z
LAST-MODIFIED:20240715T115701Z
UID:10000881-1774083600-1774094400@www.fenlandarchery.co.uk
SUMMARY:Attendance Saturdays
DESCRIPTION:
URL:https://www.fenlandarchery.co.uk/event/attendance-saturdays/2026-03-21/
CATEGORIES:Attendance Saturdays
END:VEVENT
BEGIN:VEVENT
DTSTART;TZID=UTC:20260328T090000
DTEND;TZID=UTC:20260328T120000
DTSTAMP:20260422T220258
CREATED:20240715T115600Z
LAST-MODIFIED:20240715T115701Z
UID:10000882-1774688400-1774699200@www.fenlandarchery.co.uk
SUMMARY:Attendance Saturdays
DESCRIPTION:
URL:https://www.fenlandarchery.co.uk/event/attendance-saturdays/2026-03-28/
CATEGORIES:Attendance Saturdays
END:VEVENT
BEGIN:VEVENT
DTSTART;TZID=UTC:20260404T090000
DTEND;TZID=UTC:20260404T120000
DTSTAMP:20260422T220258
CREATED:20240715T115600Z
LAST-MODIFIED:20240715T115701Z
UID:10000883-1775293200-1775304000@www.fenlandarchery.co.uk
SUMMARY:Attendance Saturdays
DESCRIPTION:
URL:https://www.fenlandarchery.co.uk/event/attendance-saturdays/2026-04-04/
CATEGORIES:Attendance Saturdays
END:VEVENT
BEGIN:VEVENT
DTSTART;TZID=UTC:20260411T090000
DTEND;TZID=UTC:20260411T120000
DTSTAMP:20260422T220258
CREATED:20240715T115600Z
LAST-MODIFIED:20240715T115701Z
UID:10000884-1775898000-1775908800@www.fenlandarchery.co.uk
SUMMARY:Attendance Saturdays
DESCRIPTION:
URL:https://www.fenlandarchery.co.uk/event/attendance-saturdays/2026-04-11/
CATEGORIES:Attendance Saturdays
END:VEVENT
BEGIN:VEVENT
DTSTART;TZID=UTC:20260418T090000
DTEND;TZID=UTC:20260418T120000
DTSTAMP:20260422T220258
CREATED:20240715T115600Z
LAST-MODIFIED:20240715T115701Z
UID:10000885-1776502800-1776513600@www.fenlandarchery.co.uk
SUMMARY:Attendance Saturdays
DESCRIPTION:
URL:https://www.fenlandarchery.co.uk/event/attendance-saturdays/2026-04-18/
CATEGORIES:Attendance Saturdays
END:VEVENT
BEGIN:VEVENT
DTSTART;TZID=UTC:20260425T090000
DTEND;TZID=UTC:20260425T120000
DTSTAMP:20260422T220258
CREATED:20240715T115600Z
LAST-MODIFIED:20240715T115701Z
UID:10000886-1777107600-1777118400@www.fenlandarchery.co.uk
SUMMARY:Attendance Saturdays
DESCRIPTION:
URL:https://www.fenlandarchery.co.uk/event/attendance-saturdays/2026-04-25/
CATEGORIES:Attendance Saturdays
END:VEVENT
BEGIN:VEVENT
DTSTART;TZID=UTC:20260502T090000
DTEND;TZID=UTC:20260502T120000
DTSTAMP:20260422T220258
CREATED:20240715T115600Z
LAST-MODIFIED:20240715T115701Z
UID:10000887-1777712400-1777723200@www.fenlandarchery.co.uk
SUMMARY:Attendance Saturdays
DESCRIPTION:
URL:https://www.fenlandarchery.co.uk/event/attendance-saturdays/2026-05-02/
CATEGORIES:Attendance Saturdays
END:VEVENT
BEGIN:VEVENT
DTSTART;TZID=UTC:20260509T090000
DTEND;TZID=UTC:20260509T120000
DTSTAMP:20260422T220258
CREATED:20240715T115600Z
LAST-MODIFIED:20240715T115701Z
UID:10000888-1778317200-1778328000@www.fenlandarchery.co.uk
SUMMARY:Attendance Saturdays
DESCRIPTION:
URL:https://www.fenlandarchery.co.uk/event/attendance-saturdays/2026-05-09/
CATEGORIES:Attendance Saturdays
END:VEVENT
BEGIN:VEVENT
DTSTART;TZID=UTC:20260516T090000
DTEND;TZID=UTC:20260516T120000
DTSTAMP:20260422T220258
CREATED:20240715T115600Z
LAST-MODIFIED:20240715T115701Z
UID:10000889-1778922000-1778932800@www.fenlandarchery.co.uk
SUMMARY:Attendance Saturdays
DESCRIPTION:
URL:https://www.fenlandarchery.co.uk/event/attendance-saturdays/2026-05-16/
CATEGORIES:Attendance Saturdays
END:VEVENT
BEGIN:VEVENT
DTSTART;TZID=UTC:20260523T090000
DTEND;TZID=UTC:20260523T120000
DTSTAMP:20260422T220258
CREATED:20240715T115600Z
LAST-MODIFIED:20240715T115701Z
UID:10000890-1779526800-1779537600@www.fenlandarchery.co.uk
SUMMARY:Attendance Saturdays
DESCRIPTION:
URL:https://www.fenlandarchery.co.uk/event/attendance-saturdays/2026-05-23/
CATEGORIES:Attendance Saturdays
END:VEVENT
BEGIN:VEVENT
DTSTART;TZID=UTC:20260530T090000
DTEND;TZID=UTC:20260530T120000
DTSTAMP:20260422T220258
CREATED:20240715T115600Z
LAST-MODIFIED:20240715T115701Z
UID:10000891-1780131600-1780142400@www.fenlandarchery.co.uk
SUMMARY:Attendance Saturdays
DESCRIPTION:
URL:https://www.fenlandarchery.co.uk/event/attendance-saturdays/2026-05-30/
CATEGORIES:Attendance Saturdays
END:VEVENT
BEGIN:VEVENT
DTSTART;TZID=UTC:20260606T090000
DTEND;TZID=UTC:20260606T120000
DTSTAMP:20260422T220258
CREATED:20240715T115600Z
LAST-MODIFIED:20240715T115701Z
UID:10000892-1780736400-1780747200@www.fenlandarchery.co.uk
SUMMARY:Attendance Saturdays
DESCRIPTION:
URL:https://www.fenlandarchery.co.uk/event/attendance-saturdays/2026-06-06/
CATEGORIES:Attendance Saturdays
END:VEVENT
BEGIN:VEVENT
DTSTART;TZID=UTC:20260613T090000
DTEND;TZID=UTC:20260613T120000
DTSTAMP:20260422T220258
CREATED:20240715T115600Z
LAST-MODIFIED:20240715T115701Z
UID:10000893-1781341200-1781352000@www.fenlandarchery.co.uk
SUMMARY:Attendance Saturdays
DESCRIPTION:
URL:https://www.fenlandarchery.co.uk/event/attendance-saturdays/2026-06-13/
CATEGORIES:Attendance Saturdays
END:VEVENT
BEGIN:VEVENT
DTSTART;TZID=UTC:20260620T090000
DTEND;TZID=UTC:20260620T120000
DTSTAMP:20260422T220258
CREATED:20240715T115600Z
LAST-MODIFIED:20240715T115701Z
UID:10000894-1781946000-1781956800@www.fenlandarchery.co.uk
SUMMARY:Attendance Saturdays
DESCRIPTION:
URL:https://www.fenlandarchery.co.uk/event/attendance-saturdays/2026-06-20/
CATEGORIES:Attendance Saturdays
END:VEVENT
BEGIN:VEVENT
DTSTART;TZID=UTC:20260627T090000
DTEND;TZID=UTC:20260627T120000
DTSTAMP:20260422T220258
CREATED:20240715T115600Z
LAST-MODIFIED:20240715T115701Z
UID:10000895-1782550800-1782561600@www.fenlandarchery.co.uk
SUMMARY:Attendance Saturdays
DESCRIPTION:
URL:https://www.fenlandarchery.co.uk/event/attendance-saturdays/2026-06-27/
CATEGORIES:Attendance Saturdays
END:VEVENT
BEGIN:VEVENT
DTSTART;TZID=UTC:20260704T090000
DTEND;TZID=UTC:20260704T120000
DTSTAMP:20260422T220258
CREATED:20240715T115600Z
LAST-MODIFIED:20240715T115701Z
UID:10000896-1783155600-1783166400@www.fenlandarchery.co.uk
SUMMARY:Attendance Saturdays
DESCRIPTION:
URL:https://www.fenlandarchery.co.uk/event/attendance-saturdays/2026-07-04/
CATEGORIES:Attendance Saturdays
END:VEVENT
BEGIN:VEVENT
DTSTART;TZID=UTC:20260711T090000
DTEND;TZID=UTC:20260711T120000
DTSTAMP:20260422T220258
CREATED:20240715T115600Z
LAST-MODIFIED:20240715T115701Z
UID:10000897-1783760400-1783771200@www.fenlandarchery.co.uk
SUMMARY:Attendance Saturdays
DESCRIPTION:
URL:https://www.fenlandarchery.co.uk/event/attendance-saturdays/2026-07-11/
CATEGORIES:Attendance Saturdays
END:VEVENT
BEGIN:VEVENT
DTSTART;TZID=UTC:20260718T090000
DTEND;TZID=UTC:20260718T120000
DTSTAMP:20260422T220258
CREATED:20240715T115600Z
LAST-MODIFIED:20240715T115701Z
UID:10000898-1784365200-1784376000@www.fenlandarchery.co.uk
SUMMARY:Attendance Saturdays
DESCRIPTION:
URL:https://www.fenlandarchery.co.uk/event/attendance-saturdays/2026-07-18/
CATEGORIES:Attendance Saturdays
END:VEVENT
BEGIN:VEVENT
DTSTART;TZID=UTC:20260725T090000
DTEND;TZID=UTC:20260725T120000
DTSTAMP:20260422T220258
CREATED:20240715T115600Z
LAST-MODIFIED:20240715T115701Z
UID:10000899-1784970000-1784980800@www.fenlandarchery.co.uk
SUMMARY:Attendance Saturdays
DESCRIPTION:
URL:https://www.fenlandarchery.co.uk/event/attendance-saturdays/2026-07-25/
CATEGORIES:Attendance Saturdays
END:VEVENT
BEGIN:VEVENT
DTSTART;TZID=UTC:20260801T090000
DTEND;TZID=UTC:20260801T120000
DTSTAMP:20260422T220258
CREATED:20240715T115600Z
LAST-MODIFIED:20240715T115701Z
UID:10000900-1785574800-1785585600@www.fenlandarchery.co.uk
SUMMARY:Attendance Saturdays
DESCRIPTION:
URL:https://www.fenlandarchery.co.uk/event/attendance-saturdays/2026-08-01/
CATEGORIES:Attendance Saturdays
END:VEVENT
BEGIN:VEVENT
DTSTART;TZID=UTC:20260808T090000
DTEND;TZID=UTC:20260808T120000
DTSTAMP:20260422T220258
CREATED:20240715T115600Z
LAST-MODIFIED:20240715T115701Z
UID:10000901-1786179600-1786190400@www.fenlandarchery.co.uk
SUMMARY:Attendance Saturdays
DESCRIPTION:
URL:https://www.fenlandarchery.co.uk/event/attendance-saturdays/2026-08-08/
CATEGORIES:Attendance Saturdays
END:VEVENT
BEGIN:VEVENT
DTSTART;TZID=UTC:20260815T090000
DTEND;TZID=UTC:20260815T120000
DTSTAMP:20260422T220258
CREATED:20240715T115600Z
LAST-MODIFIED:20240715T115701Z
UID:10000902-1786784400-1786795200@www.fenlandarchery.co.uk
SUMMARY:Attendance Saturdays
DESCRIPTION:
URL:https://www.fenlandarchery.co.uk/event/attendance-saturdays/2026-08-15/
CATEGORIES:Attendance Saturdays
END:VEVENT
BEGIN:VEVENT
DTSTART;TZID=UTC:20260822T090000
DTEND;TZID=UTC:20260822T120000
DTSTAMP:20260422T220258
CREATED:20240715T115600Z
LAST-MODIFIED:20240715T115701Z
UID:10000903-1787389200-1787400000@www.fenlandarchery.co.uk
SUMMARY:Attendance Saturdays
DESCRIPTION:
URL:https://www.fenlandarchery.co.uk/event/attendance-saturdays/2026-08-22/
CATEGORIES:Attendance Saturdays
END:VEVENT
BEGIN:VEVENT
DTSTART;TZID=UTC:20260829T090000
DTEND;TZID=UTC:20260829T120000
DTSTAMP:20260422T220258
CREATED:20240715T115600Z
LAST-MODIFIED:20240715T115701Z
UID:10000904-1787994000-1788004800@www.fenlandarchery.co.uk
SUMMARY:Attendance Saturdays
DESCRIPTION:
URL:https://www.fenlandarchery.co.uk/event/attendance-saturdays/2026-08-29/
CATEGORIES:Attendance Saturdays
END:VEVENT
BEGIN:VEVENT
DTSTART;TZID=UTC:20260905T090000
DTEND;TZID=UTC:20260905T120000
DTSTAMP:20260422T220258
CREATED:20240715T115600Z
LAST-MODIFIED:20240715T115701Z
UID:10000905-1788598800-1788609600@www.fenlandarchery.co.uk
SUMMARY:Attendance Saturdays
DESCRIPTION:
URL:https://www.fenlandarchery.co.uk/event/attendance-saturdays/2026-09-05/
CATEGORIES:Attendance Saturdays
END:VEVENT
BEGIN:VEVENT
DTSTART;TZID=UTC:20260912T090000
DTEND;TZID=UTC:20260912T120000
DTSTAMP:20260422T220258
CREATED:20240715T115600Z
LAST-MODIFIED:20240715T115701Z
UID:10000906-1789203600-1789214400@www.fenlandarchery.co.uk
SUMMARY:Attendance Saturdays
DESCRIPTION:
URL:https://www.fenlandarchery.co.uk/event/attendance-saturdays/2026-09-12/
CATEGORIES:Attendance Saturdays
END:VEVENT
BEGIN:VEVENT
DTSTART;TZID=UTC:20260919T090000
DTEND;TZID=UTC:20260919T120000
DTSTAMP:20260422T220258
CREATED:20240715T115600Z
LAST-MODIFIED:20240715T115701Z
UID:10000907-1789808400-1789819200@www.fenlandarchery.co.uk
SUMMARY:Attendance Saturdays
DESCRIPTION:
URL:https://www.fenlandarchery.co.uk/event/attendance-saturdays/2026-09-19/
CATEGORIES:Attendance Saturdays
END:VEVENT
END:VCALENDAR