BEGIN:VCALENDAR
VERSION:2.0
PRODID:-//Fenland Archery Club - ECPv6.15.20//NONSGML v1.0//EN
CALSCALE:GREGORIAN
METHOD:PUBLISH
X-WR-CALNAME:Fenland Archery Club
X-ORIGINAL-URL:https://www.fenlandarchery.co.uk
X-WR-CALDESC:Events for Fenland Archery Club
REFRESH-INTERVAL;VALUE=DURATION:PT1H
X-Robots-Tag:noindex
X-PUBLISHED-TTL:PT1H
BEGIN:VTIMEZONE
TZID:UTC
BEGIN:STANDARD
TZOFFSETFROM:+0000
TZOFFSETTO:+0000
TZNAME:UTC
DTSTART:20240101T000000
END:STANDARD
END:VTIMEZONE
BEGIN:VEVENT
DTSTART;TZID=UTC:20250426T090000
DTEND;TZID=UTC:20250426T120000
DTSTAMP:20260421T020356
CREATED:20240715T115600Z
LAST-MODIFIED:20240715T115701Z
UID:10000834-1745658000-1745668800@www.fenlandarchery.co.uk
SUMMARY:Attendance Saturdays
DESCRIPTION:
URL:https://www.fenlandarchery.co.uk/event/attendance-saturdays/2025-04-26/
CATEGORIES:Attendance Saturdays
END:VEVENT
BEGIN:VEVENT
DTSTART;TZID=UTC:20250424T190000
DTEND;TZID=UTC:20250424T210000
DTSTAMP:20260421T020356
CREATED:20240715T115543Z
LAST-MODIFIED:20240715T115914Z
UID:10001095-1745521200-1745528400@www.fenlandarchery.co.uk
SUMMARY:Attendance Thursdays
DESCRIPTION:
URL:https://www.fenlandarchery.co.uk/event/attendance-thursdays/2025-04-24/
CATEGORIES:Attendance Thursdays
END:VEVENT
BEGIN:VEVENT
DTSTART;TZID=UTC:20250422T190000
DTEND;TZID=UTC:20250422T210000
DTSTAMP:20260421T020356
CREATED:20240715T115513Z
LAST-MODIFIED:20240715T120042Z
UID:10001356-1745348400-1745355600@www.fenlandarchery.co.uk
SUMMARY:Attendance Tuesdays
DESCRIPTION:
URL:https://www.fenlandarchery.co.uk/event/attendance-tuesdays/2025-04-22/
CATEGORIES:Attendance Tuesdays
END:VEVENT
BEGIN:VEVENT
DTSTART;TZID=UTC:20250419T090000
DTEND;TZID=UTC:20250419T120000
DTSTAMP:20260421T020356
CREATED:20240715T115600Z
LAST-MODIFIED:20240715T115701Z
UID:10000833-1745053200-1745064000@www.fenlandarchery.co.uk
SUMMARY:Attendance Saturdays
DESCRIPTION:
URL:https://www.fenlandarchery.co.uk/event/attendance-saturdays/2025-04-19/
CATEGORIES:Attendance Saturdays
END:VEVENT
BEGIN:VEVENT
DTSTART;TZID=UTC:20250417T190000
DTEND;TZID=UTC:20250417T210000
DTSTAMP:20260421T020356
CREATED:20240715T115543Z
LAST-MODIFIED:20240715T115914Z
UID:10001094-1744916400-1744923600@www.fenlandarchery.co.uk
SUMMARY:Attendance Thursdays
DESCRIPTION:
URL:https://www.fenlandarchery.co.uk/event/attendance-thursdays/2025-04-17/
CATEGORIES:Attendance Thursdays
END:VEVENT
BEGIN:VEVENT
DTSTART;TZID=UTC:20250415T190000
DTEND;TZID=UTC:20250415T210000
DTSTAMP:20260421T020356
CREATED:20240715T115513Z
LAST-MODIFIED:20240715T120042Z
UID:10001355-1744743600-1744750800@www.fenlandarchery.co.uk
SUMMARY:Attendance Tuesdays
DESCRIPTION:
URL:https://www.fenlandarchery.co.uk/event/attendance-tuesdays/2025-04-15/
CATEGORIES:Attendance Tuesdays
END:VEVENT
BEGIN:VEVENT
DTSTART;TZID=UTC:20250412T090000
DTEND;TZID=UTC:20250412T120000
DTSTAMP:20260421T020356
CREATED:20240715T115600Z
LAST-MODIFIED:20240715T115701Z
UID:10000832-1744448400-1744459200@www.fenlandarchery.co.uk
SUMMARY:Attendance Saturdays
DESCRIPTION:
URL:https://www.fenlandarchery.co.uk/event/attendance-saturdays/2025-04-12/
CATEGORIES:Attendance Saturdays
END:VEVENT
BEGIN:VEVENT
DTSTART;TZID=UTC:20250410T190000
DTEND;TZID=UTC:20250410T210000
DTSTAMP:20260421T020356
CREATED:20240715T115543Z
LAST-MODIFIED:20240715T115914Z
UID:10001093-1744311600-1744318800@www.fenlandarchery.co.uk
SUMMARY:Attendance Thursdays
DESCRIPTION:
URL:https://www.fenlandarchery.co.uk/event/attendance-thursdays/2025-04-10/
CATEGORIES:Attendance Thursdays
END:VEVENT
BEGIN:VEVENT
DTSTART;TZID=UTC:20250408T190000
DTEND;TZID=UTC:20250408T210000
DTSTAMP:20260421T020356
CREATED:20240715T115513Z
LAST-MODIFIED:20240715T120042Z
UID:10001354-1744138800-1744146000@www.fenlandarchery.co.uk
SUMMARY:Attendance Tuesdays
DESCRIPTION:
URL:https://www.fenlandarchery.co.uk/event/attendance-tuesdays/2025-04-08/
CATEGORIES:Attendance Tuesdays
END:VEVENT
BEGIN:VEVENT
DTSTART;TZID=UTC:20250405T090000
DTEND;TZID=UTC:20250405T120000
DTSTAMP:20260421T020356
CREATED:20240715T115600Z
LAST-MODIFIED:20240715T115701Z
UID:10000831-1743843600-1743854400@www.fenlandarchery.co.uk
SUMMARY:Attendance Saturdays
DESCRIPTION:
URL:https://www.fenlandarchery.co.uk/event/attendance-saturdays/2025-04-05/
CATEGORIES:Attendance Saturdays
END:VEVENT
BEGIN:VEVENT
DTSTART;TZID=UTC:20250403T190000
DTEND;TZID=UTC:20250403T210000
DTSTAMP:20260421T020356
CREATED:20240715T115543Z
LAST-MODIFIED:20240715T115914Z
UID:10001092-1743706800-1743714000@www.fenlandarchery.co.uk
SUMMARY:Attendance Thursdays
DESCRIPTION:
URL:https://www.fenlandarchery.co.uk/event/attendance-thursdays/2025-04-03/
CATEGORIES:Attendance Thursdays
END:VEVENT
BEGIN:VEVENT
DTSTART;TZID=UTC:20250401T190000
DTEND;TZID=UTC:20250401T210000
DTSTAMP:20260421T020356
CREATED:20240715T115513Z
LAST-MODIFIED:20240715T120042Z
UID:10001353-1743534000-1743541200@www.fenlandarchery.co.uk
SUMMARY:Attendance Tuesdays
DESCRIPTION:
URL:https://www.fenlandarchery.co.uk/event/attendance-tuesdays/2025-04-01/
CATEGORIES:Attendance Tuesdays
END:VEVENT
BEGIN:VEVENT
DTSTART;TZID=UTC:20250329T090000
DTEND;TZID=UTC:20250329T120000
DTSTAMP:20260421T020356
CREATED:20240715T115600Z
LAST-MODIFIED:20240715T115701Z
UID:10000830-1743238800-1743249600@www.fenlandarchery.co.uk
SUMMARY:Attendance Saturdays
DESCRIPTION:
URL:https://www.fenlandarchery.co.uk/event/attendance-saturdays/2025-03-29/
CATEGORIES:Attendance Saturdays
END:VEVENT
BEGIN:VEVENT
DTSTART;TZID=UTC:20250327T190000
DTEND;TZID=UTC:20250327T210000
DTSTAMP:20260421T020356
CREATED:20240715T115543Z
LAST-MODIFIED:20240715T115914Z
UID:10001091-1743102000-1743109200@www.fenlandarchery.co.uk
SUMMARY:Attendance Thursdays
DESCRIPTION:
URL:https://www.fenlandarchery.co.uk/event/attendance-thursdays/2025-03-27/
CATEGORIES:Attendance Thursdays
END:VEVENT
BEGIN:VEVENT
DTSTART;TZID=UTC:20250325T190000
DTEND;TZID=UTC:20250325T210000
DTSTAMP:20260421T020356
CREATED:20240715T115513Z
LAST-MODIFIED:20240715T120042Z
UID:10001352-1742929200-1742936400@www.fenlandarchery.co.uk
SUMMARY:Attendance Tuesdays
DESCRIPTION:
URL:https://www.fenlandarchery.co.uk/event/attendance-tuesdays/2025-03-25/
CATEGORIES:Attendance Tuesdays
END:VEVENT
BEGIN:VEVENT
DTSTART;TZID=UTC:20250322T090000
DTEND;TZID=UTC:20250322T120000
DTSTAMP:20260421T020356
CREATED:20240715T115600Z
LAST-MODIFIED:20240715T115701Z
UID:10000829-1742634000-1742644800@www.fenlandarchery.co.uk
SUMMARY:Attendance Saturdays
DESCRIPTION:
URL:https://www.fenlandarchery.co.uk/event/attendance-saturdays/2025-03-22/
CATEGORIES:Attendance Saturdays
END:VEVENT
BEGIN:VEVENT
DTSTART;TZID=UTC:20250320T190000
DTEND;TZID=UTC:20250320T210000
DTSTAMP:20260421T020356
CREATED:20240715T115543Z
LAST-MODIFIED:20240715T115914Z
UID:10001090-1742497200-1742504400@www.fenlandarchery.co.uk
SUMMARY:Attendance Thursdays
DESCRIPTION:
URL:https://www.fenlandarchery.co.uk/event/attendance-thursdays/2025-03-20/
CATEGORIES:Attendance Thursdays
END:VEVENT
BEGIN:VEVENT
DTSTART;TZID=UTC:20250318T190000
DTEND;TZID=UTC:20250318T210000
DTSTAMP:20260421T020356
CREATED:20240715T115513Z
LAST-MODIFIED:20240715T120042Z
UID:10001351-1742324400-1742331600@www.fenlandarchery.co.uk
SUMMARY:Attendance Tuesdays
DESCRIPTION:
URL:https://www.fenlandarchery.co.uk/event/attendance-tuesdays/2025-03-18/
CATEGORIES:Attendance Tuesdays
END:VEVENT
BEGIN:VEVENT
DTSTART;TZID=UTC:20250315T090000
DTEND;TZID=UTC:20250315T120000
DTSTAMP:20260421T020356
CREATED:20240715T115600Z
LAST-MODIFIED:20240715T115701Z
UID:10000828-1742029200-1742040000@www.fenlandarchery.co.uk
SUMMARY:Attendance Saturdays
DESCRIPTION:
URL:https://www.fenlandarchery.co.uk/event/attendance-saturdays/2025-03-15/
CATEGORIES:Attendance Saturdays
END:VEVENT
BEGIN:VEVENT
DTSTART;TZID=UTC:20250313T190000
DTEND;TZID=UTC:20250313T210000
DTSTAMP:20260421T020356
CREATED:20240715T115543Z
LAST-MODIFIED:20240715T115914Z
UID:10001089-1741892400-1741899600@www.fenlandarchery.co.uk
SUMMARY:Attendance Thursdays
DESCRIPTION:
URL:https://www.fenlandarchery.co.uk/event/attendance-thursdays/2025-03-13/
CATEGORIES:Attendance Thursdays
END:VEVENT
BEGIN:VEVENT
DTSTART;TZID=UTC:20250311T190000
DTEND;TZID=UTC:20250311T210000
DTSTAMP:20260421T020356
CREATED:20240715T115513Z
LAST-MODIFIED:20240715T120042Z
UID:10001350-1741719600-1741726800@www.fenlandarchery.co.uk
SUMMARY:Attendance Tuesdays
DESCRIPTION:
URL:https://www.fenlandarchery.co.uk/event/attendance-tuesdays/2025-03-11/
CATEGORIES:Attendance Tuesdays
END:VEVENT
BEGIN:VEVENT
DTSTART;TZID=UTC:20250308T090000
DTEND;TZID=UTC:20250308T120000
DTSTAMP:20260421T020356
CREATED:20240715T115600Z
LAST-MODIFIED:20240715T115701Z
UID:10000827-1741424400-1741435200@www.fenlandarchery.co.uk
SUMMARY:Attendance Saturdays
DESCRIPTION:
URL:https://www.fenlandarchery.co.uk/event/attendance-saturdays/2025-03-08/
CATEGORIES:Attendance Saturdays
END:VEVENT
BEGIN:VEVENT
DTSTART;TZID=UTC:20250306T190000
DTEND;TZID=UTC:20250306T210000
DTSTAMP:20260421T020356
CREATED:20240715T115543Z
LAST-MODIFIED:20240715T115914Z
UID:10001088-1741287600-1741294800@www.fenlandarchery.co.uk
SUMMARY:Attendance Thursdays
DESCRIPTION:
URL:https://www.fenlandarchery.co.uk/event/attendance-thursdays/2025-03-06/
CATEGORIES:Attendance Thursdays
END:VEVENT
BEGIN:VEVENT
DTSTART;TZID=UTC:20250304T190000
DTEND;TZID=UTC:20250304T210000
DTSTAMP:20260421T020356
CREATED:20240715T115513Z
LAST-MODIFIED:20240715T120042Z
UID:10001349-1741114800-1741122000@www.fenlandarchery.co.uk
SUMMARY:Attendance Tuesdays
DESCRIPTION:
URL:https://www.fenlandarchery.co.uk/event/attendance-tuesdays/2025-03-04/
CATEGORIES:Attendance Tuesdays
END:VEVENT
BEGIN:VEVENT
DTSTART;TZID=UTC:20250301T090000
DTEND;TZID=UTC:20250301T120000
DTSTAMP:20260421T020356
CREATED:20240715T115600Z
LAST-MODIFIED:20240715T115701Z
UID:10000826-1740819600-1740830400@www.fenlandarchery.co.uk
SUMMARY:Attendance Saturdays
DESCRIPTION:
URL:https://www.fenlandarchery.co.uk/event/attendance-saturdays/2025-03-01/
CATEGORIES:Attendance Saturdays
END:VEVENT
BEGIN:VEVENT
DTSTART;TZID=UTC:20250227T190000
DTEND;TZID=UTC:20250227T210000
DTSTAMP:20260421T020356
CREATED:20240715T115543Z
LAST-MODIFIED:20240715T115914Z
UID:10001087-1740682800-1740690000@www.fenlandarchery.co.uk
SUMMARY:Attendance Thursdays
DESCRIPTION:
URL:https://www.fenlandarchery.co.uk/event/attendance-thursdays/2025-02-27/
CATEGORIES:Attendance Thursdays
END:VEVENT
BEGIN:VEVENT
DTSTART;TZID=UTC:20250225T190000
DTEND;TZID=UTC:20250225T210000
DTSTAMP:20260421T020356
CREATED:20240715T115513Z
LAST-MODIFIED:20240715T120042Z
UID:10001348-1740510000-1740517200@www.fenlandarchery.co.uk
SUMMARY:Attendance Tuesdays
DESCRIPTION:
URL:https://www.fenlandarchery.co.uk/event/attendance-tuesdays/2025-02-25/
CATEGORIES:Attendance Tuesdays
END:VEVENT
BEGIN:VEVENT
DTSTART;TZID=UTC:20250222T090000
DTEND;TZID=UTC:20250222T120000
DTSTAMP:20260421T020356
CREATED:20240715T115600Z
LAST-MODIFIED:20240715T115701Z
UID:10000825-1740214800-1740225600@www.fenlandarchery.co.uk
SUMMARY:Attendance Saturdays
DESCRIPTION:
URL:https://www.fenlandarchery.co.uk/event/attendance-saturdays/2025-02-22/
CATEGORIES:Attendance Saturdays
END:VEVENT
BEGIN:VEVENT
DTSTART;TZID=UTC:20250220T190000
DTEND;TZID=UTC:20250220T210000
DTSTAMP:20260421T020356
CREATED:20240715T115543Z
LAST-MODIFIED:20240715T115914Z
UID:10001086-1740078000-1740085200@www.fenlandarchery.co.uk
SUMMARY:Attendance Thursdays
DESCRIPTION:
URL:https://www.fenlandarchery.co.uk/event/attendance-thursdays/2025-02-20/
CATEGORIES:Attendance Thursdays
END:VEVENT
BEGIN:VEVENT
DTSTART;TZID=UTC:20250218T190000
DTEND;TZID=UTC:20250218T210000
DTSTAMP:20260421T020356
CREATED:20240715T115513Z
LAST-MODIFIED:20240715T120042Z
UID:10001347-1739905200-1739912400@www.fenlandarchery.co.uk
SUMMARY:Attendance Tuesdays
DESCRIPTION:
URL:https://www.fenlandarchery.co.uk/event/attendance-tuesdays/2025-02-18/
CATEGORIES:Attendance Tuesdays
END:VEVENT
END:VCALENDAR