BEGIN:VCALENDAR
VERSION:2.0
PRODID:-//Fenland Archery Club - ECPv6.15.20//NONSGML v1.0//EN
CALSCALE:GREGORIAN
METHOD:PUBLISH
X-WR-CALNAME:Fenland Archery Club
X-ORIGINAL-URL:https://www.fenlandarchery.co.uk
X-WR-CALDESC:Events for Fenland Archery Club
REFRESH-INTERVAL;VALUE=DURATION:PT1H
X-Robots-Tag:noindex
X-PUBLISHED-TTL:PT1H
BEGIN:VTIMEZONE
TZID:UTC
BEGIN:STANDARD
TZOFFSETFROM:+0000
TZOFFSETTO:+0000
TZNAME:UTC
DTSTART:20230101T000000
END:STANDARD
END:VTIMEZONE
BEGIN:VEVENT
DTSTART;TZID=UTC:20250201T090000
DTEND;TZID=UTC:20250201T120000
DTSTAMP:20260421T081126
CREATED:20240715T115600Z
LAST-MODIFIED:20240715T115701Z
UID:10000822-1738400400-1738411200@www.fenlandarchery.co.uk
SUMMARY:Attendance Saturdays
DESCRIPTION:
URL:https://www.fenlandarchery.co.uk/event/attendance-saturdays/2025-02-01/
CATEGORIES:Attendance Saturdays
END:VEVENT
BEGIN:VEVENT
DTSTART;TZID=UTC:20250130T190000
DTEND;TZID=UTC:20250130T210000
DTSTAMP:20260421T081126
CREATED:20240715T115543Z
LAST-MODIFIED:20240715T115914Z
UID:10001083-1738263600-1738270800@www.fenlandarchery.co.uk
SUMMARY:Attendance Thursdays
DESCRIPTION:
URL:https://www.fenlandarchery.co.uk/event/attendance-thursdays/2025-01-30/
CATEGORIES:Attendance Thursdays
END:VEVENT
BEGIN:VEVENT
DTSTART;TZID=UTC:20250128T190000
DTEND;TZID=UTC:20250128T210000
DTSTAMP:20260421T081126
CREATED:20240715T115513Z
LAST-MODIFIED:20240715T120042Z
UID:10001344-1738090800-1738098000@www.fenlandarchery.co.uk
SUMMARY:Attendance Tuesdays
DESCRIPTION:
URL:https://www.fenlandarchery.co.uk/event/attendance-tuesdays/2025-01-28/
CATEGORIES:Attendance Tuesdays
END:VEVENT
BEGIN:VEVENT
DTSTART;TZID=UTC:20250125T090000
DTEND;TZID=UTC:20250125T120000
DTSTAMP:20260421T081126
CREATED:20240715T115600Z
LAST-MODIFIED:20240715T115701Z
UID:10000821-1737795600-1737806400@www.fenlandarchery.co.uk
SUMMARY:Attendance Saturdays
DESCRIPTION:
URL:https://www.fenlandarchery.co.uk/event/attendance-saturdays/2025-01-25/
CATEGORIES:Attendance Saturdays
END:VEVENT
BEGIN:VEVENT
DTSTART;TZID=UTC:20250123T190000
DTEND;TZID=UTC:20250123T210000
DTSTAMP:20260421T081126
CREATED:20240715T115543Z
LAST-MODIFIED:20240715T115914Z
UID:10001082-1737658800-1737666000@www.fenlandarchery.co.uk
SUMMARY:Attendance Thursdays
DESCRIPTION:
URL:https://www.fenlandarchery.co.uk/event/attendance-thursdays/2025-01-23/
CATEGORIES:Attendance Thursdays
END:VEVENT
BEGIN:VEVENT
DTSTART;TZID=UTC:20250121T190000
DTEND;TZID=UTC:20250121T210000
DTSTAMP:20260421T081126
CREATED:20240715T115513Z
LAST-MODIFIED:20240715T120042Z
UID:10001343-1737486000-1737493200@www.fenlandarchery.co.uk
SUMMARY:Attendance Tuesdays
DESCRIPTION:
URL:https://www.fenlandarchery.co.uk/event/attendance-tuesdays/2025-01-21/
CATEGORIES:Attendance Tuesdays
END:VEVENT
BEGIN:VEVENT
DTSTART;TZID=UTC:20250118T090000
DTEND;TZID=UTC:20250118T120000
DTSTAMP:20260421T081126
CREATED:20240715T115600Z
LAST-MODIFIED:20240715T115701Z
UID:10000820-1737190800-1737201600@www.fenlandarchery.co.uk
SUMMARY:Attendance Saturdays
DESCRIPTION:
URL:https://www.fenlandarchery.co.uk/event/attendance-saturdays/2025-01-18/
CATEGORIES:Attendance Saturdays
END:VEVENT
BEGIN:VEVENT
DTSTART;TZID=UTC:20250116T190000
DTEND;TZID=UTC:20250116T210000
DTSTAMP:20260421T081126
CREATED:20240715T115543Z
LAST-MODIFIED:20240715T115914Z
UID:10001081-1737054000-1737061200@www.fenlandarchery.co.uk
SUMMARY:Attendance Thursdays
DESCRIPTION:
URL:https://www.fenlandarchery.co.uk/event/attendance-thursdays/2025-01-16/
CATEGORIES:Attendance Thursdays
END:VEVENT
BEGIN:VEVENT
DTSTART;TZID=UTC:20250114T190000
DTEND;TZID=UTC:20250114T210000
DTSTAMP:20260421T081126
CREATED:20240715T115513Z
LAST-MODIFIED:20240715T120042Z
UID:10001342-1736881200-1736888400@www.fenlandarchery.co.uk
SUMMARY:Attendance Tuesdays
DESCRIPTION:
URL:https://www.fenlandarchery.co.uk/event/attendance-tuesdays/2025-01-14/
CATEGORIES:Attendance Tuesdays
END:VEVENT
BEGIN:VEVENT
DTSTART;TZID=UTC:20250111T090000
DTEND;TZID=UTC:20250111T120000
DTSTAMP:20260421T081127
CREATED:20240715T115600Z
LAST-MODIFIED:20240715T115701Z
UID:10000819-1736586000-1736596800@www.fenlandarchery.co.uk
SUMMARY:Attendance Saturdays
DESCRIPTION:
URL:https://www.fenlandarchery.co.uk/event/attendance-saturdays/2025-01-11/
CATEGORIES:Attendance Saturdays
END:VEVENT
BEGIN:VEVENT
DTSTART;TZID=UTC:20250109T190000
DTEND;TZID=UTC:20250109T210000
DTSTAMP:20260421T081127
CREATED:20240715T115543Z
LAST-MODIFIED:20240715T115914Z
UID:10001080-1736449200-1736456400@www.fenlandarchery.co.uk
SUMMARY:Attendance Thursdays
DESCRIPTION:
URL:https://www.fenlandarchery.co.uk/event/attendance-thursdays/2025-01-09/
CATEGORIES:Attendance Thursdays
END:VEVENT
BEGIN:VEVENT
DTSTART;TZID=UTC:20250107T190000
DTEND;TZID=UTC:20250107T210000
DTSTAMP:20260421T081127
CREATED:20240715T115513Z
LAST-MODIFIED:20240715T120042Z
UID:10001341-1736276400-1736283600@www.fenlandarchery.co.uk
SUMMARY:Attendance Tuesdays
DESCRIPTION:
URL:https://www.fenlandarchery.co.uk/event/attendance-tuesdays/2025-01-07/
CATEGORIES:Attendance Tuesdays
END:VEVENT
BEGIN:VEVENT
DTSTART;TZID=UTC:20250104T090000
DTEND;TZID=UTC:20250104T120000
DTSTAMP:20260421T081127
CREATED:20240715T115600Z
LAST-MODIFIED:20240715T115701Z
UID:10000818-1735981200-1735992000@www.fenlandarchery.co.uk
SUMMARY:Attendance Saturdays
DESCRIPTION:
URL:https://www.fenlandarchery.co.uk/event/attendance-saturdays/2025-01-04/
CATEGORIES:Attendance Saturdays
END:VEVENT
BEGIN:VEVENT
DTSTART;TZID=UTC:20250102T190000
DTEND;TZID=UTC:20250102T210000
DTSTAMP:20260421T081127
CREATED:20240715T115543Z
LAST-MODIFIED:20240715T115914Z
UID:10001079-1735844400-1735851600@www.fenlandarchery.co.uk
SUMMARY:Attendance Thursdays
DESCRIPTION:
URL:https://www.fenlandarchery.co.uk/event/attendance-thursdays/2025-01-02/
CATEGORIES:Attendance Thursdays
END:VEVENT
BEGIN:VEVENT
DTSTART;TZID=UTC:20241231T190000
DTEND;TZID=UTC:20241231T210000
DTSTAMP:20260421T081127
CREATED:20240715T115513Z
LAST-MODIFIED:20240715T120042Z
UID:10001340-1735671600-1735678800@www.fenlandarchery.co.uk
SUMMARY:Attendance Tuesdays
DESCRIPTION:
URL:https://www.fenlandarchery.co.uk/event/attendance-tuesdays/2024-12-31/
CATEGORIES:Attendance Tuesdays
END:VEVENT
BEGIN:VEVENT
DTSTART;TZID=UTC:20241228T090000
DTEND;TZID=UTC:20241228T120000
DTSTAMP:20260421T081127
CREATED:20240715T115600Z
LAST-MODIFIED:20240715T115701Z
UID:10000817-1735376400-1735387200@www.fenlandarchery.co.uk
SUMMARY:Attendance Saturdays
DESCRIPTION:
URL:https://www.fenlandarchery.co.uk/event/attendance-saturdays/2024-12-28/
CATEGORIES:Attendance Saturdays
END:VEVENT
BEGIN:VEVENT
DTSTART;TZID=UTC:20241226T190000
DTEND;TZID=UTC:20241226T210000
DTSTAMP:20260421T081127
CREATED:20240715T115543Z
LAST-MODIFIED:20240715T115914Z
UID:10001078-1735239600-1735246800@www.fenlandarchery.co.uk
SUMMARY:Attendance Thursdays
DESCRIPTION:
URL:https://www.fenlandarchery.co.uk/event/attendance-thursdays/2024-12-26/
CATEGORIES:Attendance Thursdays
END:VEVENT
BEGIN:VEVENT
DTSTART;TZID=UTC:20241224T190000
DTEND;TZID=UTC:20241224T210000
DTSTAMP:20260421T081127
CREATED:20240715T115513Z
LAST-MODIFIED:20240715T120042Z
UID:10001339-1735066800-1735074000@www.fenlandarchery.co.uk
SUMMARY:Attendance Tuesdays
DESCRIPTION:
URL:https://www.fenlandarchery.co.uk/event/attendance-tuesdays/2024-12-24/
CATEGORIES:Attendance Tuesdays
END:VEVENT
BEGIN:VEVENT
DTSTART;TZID=UTC:20241221T090000
DTEND;TZID=UTC:20241221T120000
DTSTAMP:20260421T081127
CREATED:20240715T115600Z
LAST-MODIFIED:20240715T115701Z
UID:10000816-1734771600-1734782400@www.fenlandarchery.co.uk
SUMMARY:Attendance Saturdays
DESCRIPTION:
URL:https://www.fenlandarchery.co.uk/event/attendance-saturdays/2024-12-21/
CATEGORIES:Attendance Saturdays
END:VEVENT
BEGIN:VEVENT
DTSTART;TZID=UTC:20241219T190000
DTEND;TZID=UTC:20241219T210000
DTSTAMP:20260421T081127
CREATED:20240715T115543Z
LAST-MODIFIED:20240715T115914Z
UID:10001077-1734634800-1734642000@www.fenlandarchery.co.uk
SUMMARY:Attendance Thursdays
DESCRIPTION:
URL:https://www.fenlandarchery.co.uk/event/attendance-thursdays/2024-12-19/
CATEGORIES:Attendance Thursdays
END:VEVENT
BEGIN:VEVENT
DTSTART;TZID=UTC:20241217T190000
DTEND;TZID=UTC:20241217T210000
DTSTAMP:20260421T081127
CREATED:20240715T115513Z
LAST-MODIFIED:20240715T120042Z
UID:10001338-1734462000-1734469200@www.fenlandarchery.co.uk
SUMMARY:Attendance Tuesdays
DESCRIPTION:
URL:https://www.fenlandarchery.co.uk/event/attendance-tuesdays/2024-12-17/
CATEGORIES:Attendance Tuesdays
END:VEVENT
BEGIN:VEVENT
DTSTART;TZID=UTC:20241214T090000
DTEND;TZID=UTC:20241214T120000
DTSTAMP:20260421T081127
CREATED:20240715T115600Z
LAST-MODIFIED:20240715T115701Z
UID:10000815-1734166800-1734177600@www.fenlandarchery.co.uk
SUMMARY:Attendance Saturdays
DESCRIPTION:
URL:https://www.fenlandarchery.co.uk/event/attendance-saturdays/2024-12-14/
CATEGORIES:Attendance Saturdays
END:VEVENT
BEGIN:VEVENT
DTSTART;TZID=UTC:20241212T190000
DTEND;TZID=UTC:20241212T210000
DTSTAMP:20260421T081127
CREATED:20240715T115543Z
LAST-MODIFIED:20240715T115914Z
UID:10001076-1734030000-1734037200@www.fenlandarchery.co.uk
SUMMARY:Attendance Thursdays
DESCRIPTION:
URL:https://www.fenlandarchery.co.uk/event/attendance-thursdays/2024-12-12/
CATEGORIES:Attendance Thursdays
END:VEVENT
BEGIN:VEVENT
DTSTART;TZID=UTC:20241210T190000
DTEND;TZID=UTC:20241210T210000
DTSTAMP:20260421T081127
CREATED:20240715T115513Z
LAST-MODIFIED:20240715T120042Z
UID:10001337-1733857200-1733864400@www.fenlandarchery.co.uk
SUMMARY:Attendance Tuesdays
DESCRIPTION:
URL:https://www.fenlandarchery.co.uk/event/attendance-tuesdays/2024-12-10/
CATEGORIES:Attendance Tuesdays
END:VEVENT
BEGIN:VEVENT
DTSTART;TZID=UTC:20241207T090000
DTEND;TZID=UTC:20241207T120000
DTSTAMP:20260421T081127
CREATED:20240715T115600Z
LAST-MODIFIED:20240715T115701Z
UID:10000814-1733562000-1733572800@www.fenlandarchery.co.uk
SUMMARY:Attendance Saturdays
DESCRIPTION:
URL:https://www.fenlandarchery.co.uk/event/attendance-saturdays/2024-12-07/
CATEGORIES:Attendance Saturdays
END:VEVENT
BEGIN:VEVENT
DTSTART;TZID=UTC:20241205T190000
DTEND;TZID=UTC:20241205T210000
DTSTAMP:20260421T081127
CREATED:20240715T115543Z
LAST-MODIFIED:20240715T115914Z
UID:10001075-1733425200-1733432400@www.fenlandarchery.co.uk
SUMMARY:Attendance Thursdays
DESCRIPTION:
URL:https://www.fenlandarchery.co.uk/event/attendance-thursdays/2024-12-05/
CATEGORIES:Attendance Thursdays
END:VEVENT
BEGIN:VEVENT
DTSTART;TZID=UTC:20241203T190000
DTEND;TZID=UTC:20241203T210000
DTSTAMP:20260421T081127
CREATED:20240715T115513Z
LAST-MODIFIED:20240715T120042Z
UID:10001336-1733252400-1733259600@www.fenlandarchery.co.uk
SUMMARY:Attendance Tuesdays
DESCRIPTION:
URL:https://www.fenlandarchery.co.uk/event/attendance-tuesdays/2024-12-03/
CATEGORIES:Attendance Tuesdays
END:VEVENT
BEGIN:VEVENT
DTSTART;TZID=UTC:20241130T090000
DTEND;TZID=UTC:20241130T120000
DTSTAMP:20260421T081127
CREATED:20240715T115600Z
LAST-MODIFIED:20240715T115701Z
UID:10000813-1732957200-1732968000@www.fenlandarchery.co.uk
SUMMARY:Attendance Saturdays
DESCRIPTION:
URL:https://www.fenlandarchery.co.uk/event/attendance-saturdays/2024-11-30/
CATEGORIES:Attendance Saturdays
END:VEVENT
BEGIN:VEVENT
DTSTART;TZID=UTC:20241128T190000
DTEND;TZID=UTC:20241128T210000
DTSTAMP:20260421T081127
CREATED:20240715T115543Z
LAST-MODIFIED:20240715T115914Z
UID:10001074-1732820400-1732827600@www.fenlandarchery.co.uk
SUMMARY:Attendance Thursdays
DESCRIPTION:
URL:https://www.fenlandarchery.co.uk/event/attendance-thursdays/2024-11-28/
CATEGORIES:Attendance Thursdays
END:VEVENT
BEGIN:VEVENT
DTSTART;TZID=UTC:20241126T190000
DTEND;TZID=UTC:20241126T210000
DTSTAMP:20260421T081127
CREATED:20240715T115513Z
LAST-MODIFIED:20240715T120042Z
UID:10001335-1732647600-1732654800@www.fenlandarchery.co.uk
SUMMARY:Attendance Tuesdays
DESCRIPTION:
URL:https://www.fenlandarchery.co.uk/event/attendance-tuesdays/2024-11-26/
CATEGORIES:Attendance Tuesdays
END:VEVENT
END:VCALENDAR