BEGIN:VCALENDAR
VERSION:2.0
PRODID:-//Fenland Archery Club - ECPv6.15.20//NONSGML v1.0//EN
CALSCALE:GREGORIAN
METHOD:PUBLISH
X-ORIGINAL-URL:https://www.fenlandarchery.co.uk
X-WR-CALDESC:Events for Fenland Archery Club
REFRESH-INTERVAL;VALUE=DURATION:PT1H
X-Robots-Tag:noindex
X-PUBLISHED-TTL:PT1H
BEGIN:VTIMEZONE
TZID:UTC
BEGIN:STANDARD
TZOFFSETFROM:+0000
TZOFFSETTO:+0000
TZNAME:UTC
DTSTART:20260101T000000
END:STANDARD
END:VTIMEZONE
BEGIN:VEVENT
DTSTART;TZID=UTC:20270518T190000
DTEND;TZID=UTC:20270518T210000
DTSTAMP:20260421T164035
CREATED:20240715T115513Z
LAST-MODIFIED:20240715T120042Z
UID:10001464-1810666800-1810674000@www.fenlandarchery.co.uk
SUMMARY:Attendance Tuesdays
DESCRIPTION:
URL:https://www.fenlandarchery.co.uk/event/attendance-tuesdays/2027-05-18/
CATEGORIES:Attendance Tuesdays
END:VEVENT
BEGIN:VEVENT
DTSTART;TZID=UTC:20270520T190000
DTEND;TZID=UTC:20270520T210000
DTSTAMP:20260421T164035
CREATED:20240715T115543Z
LAST-MODIFIED:20240715T115914Z
UID:10001203-1810839600-1810846800@www.fenlandarchery.co.uk
SUMMARY:Attendance Thursdays
DESCRIPTION:
URL:https://www.fenlandarchery.co.uk/event/attendance-thursdays/2027-05-20/
CATEGORIES:Attendance Thursdays
END:VEVENT
BEGIN:VEVENT
DTSTART;TZID=UTC:20270522T090000
DTEND;TZID=UTC:20270522T120000
DTSTAMP:20260421T164035
CREATED:20240715T115600Z
LAST-MODIFIED:20240715T115701Z
UID:10000942-1810976400-1810987200@www.fenlandarchery.co.uk
SUMMARY:Attendance Saturdays
DESCRIPTION:
URL:https://www.fenlandarchery.co.uk/event/attendance-saturdays/2027-05-22/
CATEGORIES:Attendance Saturdays
END:VEVENT
BEGIN:VEVENT
DTSTART;TZID=UTC:20270525T190000
DTEND;TZID=UTC:20270525T210000
DTSTAMP:20260421T164035
CREATED:20240715T115513Z
LAST-MODIFIED:20240715T120042Z
UID:10001465-1811271600-1811278800@www.fenlandarchery.co.uk
SUMMARY:Attendance Tuesdays
DESCRIPTION:
URL:https://www.fenlandarchery.co.uk/event/attendance-tuesdays/2027-05-25/
CATEGORIES:Attendance Tuesdays
END:VEVENT
BEGIN:VEVENT
DTSTART;TZID=UTC:20270527T190000
DTEND;TZID=UTC:20270527T210000
DTSTAMP:20260421T164035
CREATED:20240715T115543Z
LAST-MODIFIED:20240715T115914Z
UID:10001204-1811444400-1811451600@www.fenlandarchery.co.uk
SUMMARY:Attendance Thursdays
DESCRIPTION:
URL:https://www.fenlandarchery.co.uk/event/attendance-thursdays/2027-05-27/
CATEGORIES:Attendance Thursdays
END:VEVENT
BEGIN:VEVENT
DTSTART;TZID=UTC:20270529T090000
DTEND;TZID=UTC:20270529T120000
DTSTAMP:20260421T164035
CREATED:20240715T115600Z
LAST-MODIFIED:20240715T115701Z
UID:10000943-1811581200-1811592000@www.fenlandarchery.co.uk
SUMMARY:Attendance Saturdays
DESCRIPTION:
URL:https://www.fenlandarchery.co.uk/event/attendance-saturdays/2027-05-29/
CATEGORIES:Attendance Saturdays
END:VEVENT
BEGIN:VEVENT
DTSTART;TZID=UTC:20270601T190000
DTEND;TZID=UTC:20270601T210000
DTSTAMP:20260421T164035
CREATED:20240715T115513Z
LAST-MODIFIED:20240715T120042Z
UID:10001466-1811876400-1811883600@www.fenlandarchery.co.uk
SUMMARY:Attendance Tuesdays
DESCRIPTION:
URL:https://www.fenlandarchery.co.uk/event/attendance-tuesdays/2027-06-01/
CATEGORIES:Attendance Tuesdays
END:VEVENT
BEGIN:VEVENT
DTSTART;TZID=UTC:20270603T190000
DTEND;TZID=UTC:20270603T210000
DTSTAMP:20260421T164035
CREATED:20240715T115543Z
LAST-MODIFIED:20240715T115914Z
UID:10001205-1812049200-1812056400@www.fenlandarchery.co.uk
SUMMARY:Attendance Thursdays
DESCRIPTION:
URL:https://www.fenlandarchery.co.uk/event/attendance-thursdays/2027-06-03/
CATEGORIES:Attendance Thursdays
END:VEVENT
BEGIN:VEVENT
DTSTART;TZID=UTC:20270605T090000
DTEND;TZID=UTC:20270605T120000
DTSTAMP:20260421T164035
CREATED:20240715T115600Z
LAST-MODIFIED:20240715T115701Z
UID:10000944-1812186000-1812196800@www.fenlandarchery.co.uk
SUMMARY:Attendance Saturdays
DESCRIPTION:
URL:https://www.fenlandarchery.co.uk/event/attendance-saturdays/2027-06-05/
CATEGORIES:Attendance Saturdays
END:VEVENT
BEGIN:VEVENT
DTSTART;TZID=UTC:20270608T190000
DTEND;TZID=UTC:20270608T210000
DTSTAMP:20260421T164035
CREATED:20240715T115513Z
LAST-MODIFIED:20240715T120042Z
UID:10001467-1812481200-1812488400@www.fenlandarchery.co.uk
SUMMARY:Attendance Tuesdays
DESCRIPTION:
URL:https://www.fenlandarchery.co.uk/event/attendance-tuesdays/2027-06-08/
CATEGORIES:Attendance Tuesdays
END:VEVENT
BEGIN:VEVENT
DTSTART;TZID=UTC:20270610T190000
DTEND;TZID=UTC:20270610T210000
DTSTAMP:20260421T164035
CREATED:20240715T115543Z
LAST-MODIFIED:20240715T115914Z
UID:10001206-1812654000-1812661200@www.fenlandarchery.co.uk
SUMMARY:Attendance Thursdays
DESCRIPTION:
URL:https://www.fenlandarchery.co.uk/event/attendance-thursdays/2027-06-10/
CATEGORIES:Attendance Thursdays
END:VEVENT
BEGIN:VEVENT
DTSTART;TZID=UTC:20270612T090000
DTEND;TZID=UTC:20270612T120000
DTSTAMP:20260421T164035
CREATED:20240715T115600Z
LAST-MODIFIED:20240715T115701Z
UID:10000945-1812790800-1812801600@www.fenlandarchery.co.uk
SUMMARY:Attendance Saturdays
DESCRIPTION:
URL:https://www.fenlandarchery.co.uk/event/attendance-saturdays/2027-06-12/
CATEGORIES:Attendance Saturdays
END:VEVENT
BEGIN:VEVENT
DTSTART;TZID=UTC:20270615T190000
DTEND;TZID=UTC:20270615T210000
DTSTAMP:20260421T164035
CREATED:20240715T115513Z
LAST-MODIFIED:20240715T120042Z
UID:10001468-1813086000-1813093200@www.fenlandarchery.co.uk
SUMMARY:Attendance Tuesdays
DESCRIPTION:
URL:https://www.fenlandarchery.co.uk/event/attendance-tuesdays/2027-06-15/
CATEGORIES:Attendance Tuesdays
END:VEVENT
BEGIN:VEVENT
DTSTART;TZID=UTC:20270617T190000
DTEND;TZID=UTC:20270617T210000
DTSTAMP:20260421T164035
CREATED:20240715T115543Z
LAST-MODIFIED:20240715T115914Z
UID:10001207-1813258800-1813266000@www.fenlandarchery.co.uk
SUMMARY:Attendance Thursdays
DESCRIPTION:
URL:https://www.fenlandarchery.co.uk/event/attendance-thursdays/2027-06-17/
CATEGORIES:Attendance Thursdays
END:VEVENT
BEGIN:VEVENT
DTSTART;TZID=UTC:20270619T090000
DTEND;TZID=UTC:20270619T120000
DTSTAMP:20260421T164035
CREATED:20240715T115600Z
LAST-MODIFIED:20240715T115701Z
UID:10000946-1813395600-1813406400@www.fenlandarchery.co.uk
SUMMARY:Attendance Saturdays
DESCRIPTION:
URL:https://www.fenlandarchery.co.uk/event/attendance-saturdays/2027-06-19/
CATEGORIES:Attendance Saturdays
END:VEVENT
BEGIN:VEVENT
DTSTART;TZID=UTC:20270622T190000
DTEND;TZID=UTC:20270622T210000
DTSTAMP:20260421T164035
CREATED:20240715T115513Z
LAST-MODIFIED:20240715T120042Z
UID:10001469-1813690800-1813698000@www.fenlandarchery.co.uk
SUMMARY:Attendance Tuesdays
DESCRIPTION:
URL:https://www.fenlandarchery.co.uk/event/attendance-tuesdays/2027-06-22/
CATEGORIES:Attendance Tuesdays
END:VEVENT
BEGIN:VEVENT
DTSTART;TZID=UTC:20270624T190000
DTEND;TZID=UTC:20270624T210000
DTSTAMP:20260421T164035
CREATED:20240715T115543Z
LAST-MODIFIED:20240715T115914Z
UID:10001208-1813863600-1813870800@www.fenlandarchery.co.uk
SUMMARY:Attendance Thursdays
DESCRIPTION:
URL:https://www.fenlandarchery.co.uk/event/attendance-thursdays/2027-06-24/
CATEGORIES:Attendance Thursdays
END:VEVENT
BEGIN:VEVENT
DTSTART;TZID=UTC:20270626T090000
DTEND;TZID=UTC:20270626T120000
DTSTAMP:20260421T164035
CREATED:20240715T115600Z
LAST-MODIFIED:20240715T115701Z
UID:10000947-1814000400-1814011200@www.fenlandarchery.co.uk
SUMMARY:Attendance Saturdays
DESCRIPTION:
URL:https://www.fenlandarchery.co.uk/event/attendance-saturdays/2027-06-26/
CATEGORIES:Attendance Saturdays
END:VEVENT
BEGIN:VEVENT
DTSTART;TZID=UTC:20270629T190000
DTEND;TZID=UTC:20270629T210000
DTSTAMP:20260421T164035
CREATED:20240715T115513Z
LAST-MODIFIED:20240715T120042Z
UID:10001470-1814295600-1814302800@www.fenlandarchery.co.uk
SUMMARY:Attendance Tuesdays
DESCRIPTION:
URL:https://www.fenlandarchery.co.uk/event/attendance-tuesdays/2027-06-29/
CATEGORIES:Attendance Tuesdays
END:VEVENT
BEGIN:VEVENT
DTSTART;TZID=UTC:20270701T190000
DTEND;TZID=UTC:20270701T210000
DTSTAMP:20260421T164035
CREATED:20240715T115543Z
LAST-MODIFIED:20240715T115914Z
UID:10001209-1814468400-1814475600@www.fenlandarchery.co.uk
SUMMARY:Attendance Thursdays
DESCRIPTION:
URL:https://www.fenlandarchery.co.uk/event/attendance-thursdays/2027-07-01/
CATEGORIES:Attendance Thursdays
END:VEVENT
BEGIN:VEVENT
DTSTART;TZID=UTC:20270703T090000
DTEND;TZID=UTC:20270703T120000
DTSTAMP:20260421T164035
CREATED:20240715T115600Z
LAST-MODIFIED:20240715T115701Z
UID:10000948-1814605200-1814616000@www.fenlandarchery.co.uk
SUMMARY:Attendance Saturdays
DESCRIPTION:
URL:https://www.fenlandarchery.co.uk/event/attendance-saturdays/2027-07-03/
CATEGORIES:Attendance Saturdays
END:VEVENT
BEGIN:VEVENT
DTSTART;TZID=UTC:20270706T190000
DTEND;TZID=UTC:20270706T210000
DTSTAMP:20260421T164035
CREATED:20240715T115513Z
LAST-MODIFIED:20240715T120042Z
UID:10001471-1814900400-1814907600@www.fenlandarchery.co.uk
SUMMARY:Attendance Tuesdays
DESCRIPTION:
URL:https://www.fenlandarchery.co.uk/event/attendance-tuesdays/2027-07-06/
CATEGORIES:Attendance Tuesdays
END:VEVENT
BEGIN:VEVENT
DTSTART;TZID=UTC:20270708T190000
DTEND;TZID=UTC:20270708T210000
DTSTAMP:20260421T164035
CREATED:20240715T115543Z
LAST-MODIFIED:20240715T115914Z
UID:10001210-1815073200-1815080400@www.fenlandarchery.co.uk
SUMMARY:Attendance Thursdays
DESCRIPTION:
URL:https://www.fenlandarchery.co.uk/event/attendance-thursdays/2027-07-08/
CATEGORIES:Attendance Thursdays
END:VEVENT
BEGIN:VEVENT
DTSTART;TZID=UTC:20270710T090000
DTEND;TZID=UTC:20270710T120000
DTSTAMP:20260421T164036
CREATED:20240715T115600Z
LAST-MODIFIED:20240715T115701Z
UID:10000949-1815210000-1815220800@www.fenlandarchery.co.uk
SUMMARY:Attendance Saturdays
DESCRIPTION:
URL:https://www.fenlandarchery.co.uk/event/attendance-saturdays/2027-07-10/
CATEGORIES:Attendance Saturdays
END:VEVENT
BEGIN:VEVENT
DTSTART;TZID=UTC:20270713T190000
DTEND;TZID=UTC:20270713T210000
DTSTAMP:20260421T164036
CREATED:20240715T115513Z
LAST-MODIFIED:20240715T120042Z
UID:10001472-1815505200-1815512400@www.fenlandarchery.co.uk
SUMMARY:Attendance Tuesdays
DESCRIPTION:
URL:https://www.fenlandarchery.co.uk/event/attendance-tuesdays/2027-07-13/
CATEGORIES:Attendance Tuesdays
END:VEVENT
BEGIN:VEVENT
DTSTART;TZID=UTC:20270715T190000
DTEND;TZID=UTC:20270715T210000
DTSTAMP:20260421T164036
CREATED:20240715T115543Z
LAST-MODIFIED:20240715T115914Z
UID:10001211-1815678000-1815685200@www.fenlandarchery.co.uk
SUMMARY:Attendance Thursdays
DESCRIPTION:
URL:https://www.fenlandarchery.co.uk/event/attendance-thursdays/2027-07-15/
CATEGORIES:Attendance Thursdays
END:VEVENT
BEGIN:VEVENT
DTSTART;TZID=UTC:20270717T090000
DTEND;TZID=UTC:20270717T120000
DTSTAMP:20260421T164036
CREATED:20240715T115600Z
LAST-MODIFIED:20240715T115701Z
UID:10000950-1815814800-1815825600@www.fenlandarchery.co.uk
SUMMARY:Attendance Saturdays
DESCRIPTION:
URL:https://www.fenlandarchery.co.uk/event/attendance-saturdays/2027-07-17/
CATEGORIES:Attendance Saturdays
END:VEVENT
BEGIN:VEVENT
DTSTART;TZID=UTC:20270720T190000
DTEND;TZID=UTC:20270720T210000
DTSTAMP:20260421T164036
CREATED:20240715T115513Z
LAST-MODIFIED:20240715T120042Z
UID:10001473-1816110000-1816117200@www.fenlandarchery.co.uk
SUMMARY:Attendance Tuesdays
DESCRIPTION:
URL:https://www.fenlandarchery.co.uk/event/attendance-tuesdays/2027-07-20/
CATEGORIES:Attendance Tuesdays
END:VEVENT
BEGIN:VEVENT
DTSTART;TZID=UTC:20270722T190000
DTEND;TZID=UTC:20270722T210000
DTSTAMP:20260421T164036
CREATED:20240715T115543Z
LAST-MODIFIED:20240715T115914Z
UID:10001212-1816282800-1816290000@www.fenlandarchery.co.uk
SUMMARY:Attendance Thursdays
DESCRIPTION:
URL:https://www.fenlandarchery.co.uk/event/attendance-thursdays/2027-07-22/
CATEGORIES:Attendance Thursdays
END:VEVENT
BEGIN:VEVENT
DTSTART;TZID=UTC:20270724T090000
DTEND;TZID=UTC:20270724T120000
DTSTAMP:20260421T164036
CREATED:20240715T115600Z
LAST-MODIFIED:20240715T115701Z
UID:10000951-1816419600-1816430400@www.fenlandarchery.co.uk
SUMMARY:Attendance Saturdays
DESCRIPTION:
URL:https://www.fenlandarchery.co.uk/event/attendance-saturdays/2027-07-24/
CATEGORIES:Attendance Saturdays
END:VEVENT
END:VCALENDAR