BEGIN:VCALENDAR
VERSION:2.0
PRODID:-//Fenland Archery Club - ECPv6.15.20//NONSGML v1.0//EN
CALSCALE:GREGORIAN
METHOD:PUBLISH
X-WR-CALNAME:Fenland Archery Club
X-ORIGINAL-URL:https://www.fenlandarchery.co.uk
X-WR-CALDESC:Events for Fenland Archery Club
REFRESH-INTERVAL;VALUE=DURATION:PT1H
X-Robots-Tag:noindex
X-PUBLISHED-TTL:PT1H
BEGIN:VTIMEZONE
TZID:UTC
BEGIN:STANDARD
TZOFFSETFROM:+0000
TZOFFSETTO:+0000
TZNAME:UTC
DTSTART:20230101T000000
END:STANDARD
END:VTIMEZONE
BEGIN:VEVENT
DTSTART;TZID=UTC:20241109T090000
DTEND;TZID=UTC:20241109T120000
DTSTAMP:20260423T163408
CREATED:20240715T115600Z
LAST-MODIFIED:20240715T115701Z
UID:10000810-1731142800-1731153600@www.fenlandarchery.co.uk
SUMMARY:Attendance Saturdays
DESCRIPTION:
URL:https://www.fenlandarchery.co.uk/event/attendance-saturdays/2024-11-09/
CATEGORIES:Attendance Saturdays
END:VEVENT
BEGIN:VEVENT
DTSTART;TZID=UTC:20241107T190000
DTEND;TZID=UTC:20241107T210000
DTSTAMP:20260423T163408
CREATED:20240715T115543Z
LAST-MODIFIED:20240715T115914Z
UID:10001071-1731006000-1731013200@www.fenlandarchery.co.uk
SUMMARY:Attendance Thursdays
DESCRIPTION:
URL:https://www.fenlandarchery.co.uk/event/attendance-thursdays/2024-11-07/
CATEGORIES:Attendance Thursdays
END:VEVENT
BEGIN:VEVENT
DTSTART;TZID=UTC:20241105T190000
DTEND;TZID=UTC:20241105T210000
DTSTAMP:20260423T163408
CREATED:20240715T115513Z
LAST-MODIFIED:20240715T120042Z
UID:10001332-1730833200-1730840400@www.fenlandarchery.co.uk
SUMMARY:Attendance Tuesdays
DESCRIPTION:
URL:https://www.fenlandarchery.co.uk/event/attendance-tuesdays/2024-11-05/
CATEGORIES:Attendance Tuesdays
END:VEVENT
BEGIN:VEVENT
DTSTART;TZID=UTC:20241102T090000
DTEND;TZID=UTC:20241102T120000
DTSTAMP:20260423T163408
CREATED:20240715T115600Z
LAST-MODIFIED:20240715T115701Z
UID:10000809-1730538000-1730548800@www.fenlandarchery.co.uk
SUMMARY:Attendance Saturdays
DESCRIPTION:
URL:https://www.fenlandarchery.co.uk/event/attendance-saturdays/2024-11-02/
CATEGORIES:Attendance Saturdays
END:VEVENT
BEGIN:VEVENT
DTSTART;TZID=UTC:20241031T190000
DTEND;TZID=UTC:20241031T210000
DTSTAMP:20260423T163408
CREATED:20240715T115543Z
LAST-MODIFIED:20240715T115914Z
UID:10001070-1730401200-1730408400@www.fenlandarchery.co.uk
SUMMARY:Attendance Thursdays
DESCRIPTION:
URL:https://www.fenlandarchery.co.uk/event/attendance-thursdays/2024-10-31/
CATEGORIES:Attendance Thursdays
END:VEVENT
BEGIN:VEVENT
DTSTART;TZID=UTC:20241029T190000
DTEND;TZID=UTC:20241029T210000
DTSTAMP:20260423T163408
CREATED:20240715T115513Z
LAST-MODIFIED:20240715T120042Z
UID:10001331-1730228400-1730235600@www.fenlandarchery.co.uk
SUMMARY:Attendance Tuesdays
DESCRIPTION:
URL:https://www.fenlandarchery.co.uk/event/attendance-tuesdays/2024-10-29/
CATEGORIES:Attendance Tuesdays
END:VEVENT
BEGIN:VEVENT
DTSTART;TZID=UTC:20241026T090000
DTEND;TZID=UTC:20241026T120000
DTSTAMP:20260423T163408
CREATED:20240715T115600Z
LAST-MODIFIED:20240715T115701Z
UID:10000808-1729933200-1729944000@www.fenlandarchery.co.uk
SUMMARY:Attendance Saturdays
DESCRIPTION:
URL:https://www.fenlandarchery.co.uk/event/attendance-saturdays/2024-10-26/
CATEGORIES:Attendance Saturdays
END:VEVENT
BEGIN:VEVENT
DTSTART;TZID=UTC:20241024T190000
DTEND;TZID=UTC:20241024T210000
DTSTAMP:20260423T163408
CREATED:20240715T115543Z
LAST-MODIFIED:20240715T115914Z
UID:10001069-1729796400-1729803600@www.fenlandarchery.co.uk
SUMMARY:Attendance Thursdays
DESCRIPTION:
URL:https://www.fenlandarchery.co.uk/event/attendance-thursdays/2024-10-24/
CATEGORIES:Attendance Thursdays
END:VEVENT
BEGIN:VEVENT
DTSTART;TZID=UTC:20241022T190000
DTEND;TZID=UTC:20241022T210000
DTSTAMP:20260423T163408
CREATED:20240715T115513Z
LAST-MODIFIED:20240715T120042Z
UID:10001330-1729623600-1729630800@www.fenlandarchery.co.uk
SUMMARY:Attendance Tuesdays
DESCRIPTION:
URL:https://www.fenlandarchery.co.uk/event/attendance-tuesdays/2024-10-22/
CATEGORIES:Attendance Tuesdays
END:VEVENT
BEGIN:VEVENT
DTSTART;TZID=UTC:20241019T090000
DTEND;TZID=UTC:20241019T120000
DTSTAMP:20260423T163408
CREATED:20240715T115600Z
LAST-MODIFIED:20240715T115701Z
UID:10000807-1729328400-1729339200@www.fenlandarchery.co.uk
SUMMARY:Attendance Saturdays
DESCRIPTION:
URL:https://www.fenlandarchery.co.uk/event/attendance-saturdays/2024-10-19/
CATEGORIES:Attendance Saturdays
END:VEVENT
BEGIN:VEVENT
DTSTART;TZID=UTC:20241017T190000
DTEND;TZID=UTC:20241017T210000
DTSTAMP:20260423T163408
CREATED:20240715T115543Z
LAST-MODIFIED:20240715T115914Z
UID:10001068-1729191600-1729198800@www.fenlandarchery.co.uk
SUMMARY:Attendance Thursdays
DESCRIPTION:
URL:https://www.fenlandarchery.co.uk/event/attendance-thursdays/2024-10-17/
CATEGORIES:Attendance Thursdays
END:VEVENT
BEGIN:VEVENT
DTSTART;TZID=UTC:20241015T190000
DTEND;TZID=UTC:20241015T210000
DTSTAMP:20260423T163408
CREATED:20240715T115513Z
LAST-MODIFIED:20240715T120042Z
UID:10001329-1729018800-1729026000@www.fenlandarchery.co.uk
SUMMARY:Attendance Tuesdays
DESCRIPTION:
URL:https://www.fenlandarchery.co.uk/event/attendance-tuesdays/2024-10-15/
CATEGORIES:Attendance Tuesdays
END:VEVENT
BEGIN:VEVENT
DTSTART;TZID=UTC:20241012T090000
DTEND;TZID=UTC:20241012T120000
DTSTAMP:20260423T163408
CREATED:20240715T115600Z
LAST-MODIFIED:20240715T115701Z
UID:10000806-1728723600-1728734400@www.fenlandarchery.co.uk
SUMMARY:Attendance Saturdays
DESCRIPTION:
URL:https://www.fenlandarchery.co.uk/event/attendance-saturdays/2024-10-12/
CATEGORIES:Attendance Saturdays
END:VEVENT
BEGIN:VEVENT
DTSTART;TZID=UTC:20241010T190000
DTEND;TZID=UTC:20241010T210000
DTSTAMP:20260423T163408
CREATED:20240715T115543Z
LAST-MODIFIED:20240715T115914Z
UID:10001067-1728586800-1728594000@www.fenlandarchery.co.uk
SUMMARY:Attendance Thursdays
DESCRIPTION:
URL:https://www.fenlandarchery.co.uk/event/attendance-thursdays/2024-10-10/
CATEGORIES:Attendance Thursdays
END:VEVENT
BEGIN:VEVENT
DTSTART;TZID=UTC:20241008T190000
DTEND;TZID=UTC:20241008T210000
DTSTAMP:20260423T163408
CREATED:20240715T115513Z
LAST-MODIFIED:20240715T120042Z
UID:10001328-1728414000-1728421200@www.fenlandarchery.co.uk
SUMMARY:Attendance Tuesdays
DESCRIPTION:
URL:https://www.fenlandarchery.co.uk/event/attendance-tuesdays/2024-10-08/
CATEGORIES:Attendance Tuesdays
END:VEVENT
BEGIN:VEVENT
DTSTART;TZID=UTC:20241005T090000
DTEND;TZID=UTC:20241005T120000
DTSTAMP:20260423T163408
CREATED:20240715T115600Z
LAST-MODIFIED:20240715T115701Z
UID:10000805-1728118800-1728129600@www.fenlandarchery.co.uk
SUMMARY:Attendance Saturdays
DESCRIPTION:
URL:https://www.fenlandarchery.co.uk/event/attendance-saturdays/2024-10-05/
CATEGORIES:Attendance Saturdays
END:VEVENT
BEGIN:VEVENT
DTSTART;TZID=UTC:20241003T190000
DTEND;TZID=UTC:20241003T210000
DTSTAMP:20260423T163408
CREATED:20240715T115543Z
LAST-MODIFIED:20240715T115914Z
UID:10001066-1727982000-1727989200@www.fenlandarchery.co.uk
SUMMARY:Attendance Thursdays
DESCRIPTION:
URL:https://www.fenlandarchery.co.uk/event/attendance-thursdays/2024-10-03/
CATEGORIES:Attendance Thursdays
END:VEVENT
BEGIN:VEVENT
DTSTART;TZID=UTC:20241001T190000
DTEND;TZID=UTC:20241001T210000
DTSTAMP:20260423T163408
CREATED:20240715T115513Z
LAST-MODIFIED:20240715T120042Z
UID:10001327-1727809200-1727816400@www.fenlandarchery.co.uk
SUMMARY:Attendance Tuesdays
DESCRIPTION:
URL:https://www.fenlandarchery.co.uk/event/attendance-tuesdays/2024-10-01/
CATEGORIES:Attendance Tuesdays
END:VEVENT
BEGIN:VEVENT
DTSTART;TZID=UTC:20240928T090000
DTEND;TZID=UTC:20240928T120000
DTSTAMP:20260423T163408
CREATED:20240715T115600Z
LAST-MODIFIED:20240715T115701Z
UID:10000804-1727514000-1727524800@www.fenlandarchery.co.uk
SUMMARY:Attendance Saturdays
DESCRIPTION:
URL:https://www.fenlandarchery.co.uk/event/attendance-saturdays/2024-09-28/
CATEGORIES:Attendance Saturdays
END:VEVENT
BEGIN:VEVENT
DTSTART;TZID=UTC:20240926T190000
DTEND;TZID=UTC:20240926T210000
DTSTAMP:20260423T163408
CREATED:20240715T115543Z
LAST-MODIFIED:20240715T115914Z
UID:10001065-1727377200-1727384400@www.fenlandarchery.co.uk
SUMMARY:Attendance Thursdays
DESCRIPTION:
URL:https://www.fenlandarchery.co.uk/event/attendance-thursdays/2024-09-26/
CATEGORIES:Attendance Thursdays
END:VEVENT
BEGIN:VEVENT
DTSTART;TZID=UTC:20240924T190000
DTEND;TZID=UTC:20240924T210000
DTSTAMP:20260423T163408
CREATED:20240715T115513Z
LAST-MODIFIED:20240715T120042Z
UID:10001326-1727204400-1727211600@www.fenlandarchery.co.uk
SUMMARY:Attendance Tuesdays
DESCRIPTION:
URL:https://www.fenlandarchery.co.uk/event/attendance-tuesdays/2024-09-24/
CATEGORIES:Attendance Tuesdays
END:VEVENT
BEGIN:VEVENT
DTSTART;TZID=UTC:20240921T090000
DTEND;TZID=UTC:20240921T120000
DTSTAMP:20260423T163408
CREATED:20240715T115600Z
LAST-MODIFIED:20240715T115701Z
UID:10000803-1726909200-1726920000@www.fenlandarchery.co.uk
SUMMARY:Attendance Saturdays
DESCRIPTION:
URL:https://www.fenlandarchery.co.uk/event/attendance-saturdays/2024-09-21/
CATEGORIES:Attendance Saturdays
END:VEVENT
BEGIN:VEVENT
DTSTART;TZID=UTC:20240919T190000
DTEND;TZID=UTC:20240919T210000
DTSTAMP:20260423T163408
CREATED:20240715T115543Z
LAST-MODIFIED:20240715T115914Z
UID:10001064-1726772400-1726779600@www.fenlandarchery.co.uk
SUMMARY:Attendance Thursdays
DESCRIPTION:
URL:https://www.fenlandarchery.co.uk/event/attendance-thursdays/2024-09-19/
CATEGORIES:Attendance Thursdays
END:VEVENT
BEGIN:VEVENT
DTSTART;TZID=UTC:20240917T190000
DTEND;TZID=UTC:20240917T210000
DTSTAMP:20260423T163408
CREATED:20240715T115513Z
LAST-MODIFIED:20240715T120042Z
UID:10001325-1726599600-1726606800@www.fenlandarchery.co.uk
SUMMARY:Attendance Tuesdays
DESCRIPTION:
URL:https://www.fenlandarchery.co.uk/event/attendance-tuesdays/2024-09-17/
CATEGORIES:Attendance Tuesdays
END:VEVENT
BEGIN:VEVENT
DTSTART;TZID=UTC:20240914T090000
DTEND;TZID=UTC:20240914T120000
DTSTAMP:20260423T163408
CREATED:20240715T115600Z
LAST-MODIFIED:20240715T115701Z
UID:10000802-1726304400-1726315200@www.fenlandarchery.co.uk
SUMMARY:Attendance Saturdays
DESCRIPTION:
URL:https://www.fenlandarchery.co.uk/event/attendance-saturdays/2024-09-14/
CATEGORIES:Attendance Saturdays
END:VEVENT
BEGIN:VEVENT
DTSTART;TZID=UTC:20240912T190000
DTEND;TZID=UTC:20240912T210000
DTSTAMP:20260423T163408
CREATED:20240715T115543Z
LAST-MODIFIED:20240715T115914Z
UID:10001063-1726167600-1726174800@www.fenlandarchery.co.uk
SUMMARY:Attendance Thursdays
DESCRIPTION:
URL:https://www.fenlandarchery.co.uk/event/attendance-thursdays/2024-09-12/
CATEGORIES:Attendance Thursdays
END:VEVENT
BEGIN:VEVENT
DTSTART;TZID=UTC:20240910T190000
DTEND;TZID=UTC:20240910T210000
DTSTAMP:20260423T163408
CREATED:20240715T115513Z
LAST-MODIFIED:20240715T120042Z
UID:10001324-1725994800-1726002000@www.fenlandarchery.co.uk
SUMMARY:Attendance Tuesdays
DESCRIPTION:
URL:https://www.fenlandarchery.co.uk/event/attendance-tuesdays/2024-09-10/
CATEGORIES:Attendance Tuesdays
END:VEVENT
BEGIN:VEVENT
DTSTART;TZID=UTC:20240907T090000
DTEND;TZID=UTC:20240907T120000
DTSTAMP:20260423T163408
CREATED:20240715T115600Z
LAST-MODIFIED:20240715T115701Z
UID:10000801-1725699600-1725710400@www.fenlandarchery.co.uk
SUMMARY:Attendance Saturdays
DESCRIPTION:
URL:https://www.fenlandarchery.co.uk/event/attendance-saturdays/2024-09-07/
CATEGORIES:Attendance Saturdays
END:VEVENT
BEGIN:VEVENT
DTSTART;TZID=UTC:20240905T190000
DTEND;TZID=UTC:20240905T210000
DTSTAMP:20260423T163408
CREATED:20240715T115543Z
LAST-MODIFIED:20240715T115914Z
UID:10001062-1725562800-1725570000@www.fenlandarchery.co.uk
SUMMARY:Attendance Thursdays
DESCRIPTION:
URL:https://www.fenlandarchery.co.uk/event/attendance-thursdays/2024-09-05/
CATEGORIES:Attendance Thursdays
END:VEVENT
BEGIN:VEVENT
DTSTART;TZID=UTC:20240903T190000
DTEND;TZID=UTC:20240903T210000
DTSTAMP:20260423T163408
CREATED:20240715T115513Z
LAST-MODIFIED:20240715T120042Z
UID:10001323-1725390000-1725397200@www.fenlandarchery.co.uk
SUMMARY:Attendance Tuesdays
DESCRIPTION:
URL:https://www.fenlandarchery.co.uk/event/attendance-tuesdays/2024-09-03/
CATEGORIES:Attendance Tuesdays
END:VEVENT
END:VCALENDAR