BEGIN:VCALENDAR
VERSION:2.0
PRODID:-//Fenland Archery Club - ECPv6.15.20//NONSGML v1.0//EN
CALSCALE:GREGORIAN
METHOD:PUBLISH
X-WR-CALNAME:Fenland Archery Club
X-ORIGINAL-URL:https://www.fenlandarchery.co.uk
X-WR-CALDESC:Events for Fenland Archery Club
REFRESH-INTERVAL;VALUE=DURATION:PT1H
X-Robots-Tag:noindex
X-PUBLISHED-TTL:PT1H
BEGIN:VTIMEZONE
TZID:UTC
BEGIN:STANDARD
TZOFFSETFROM:+0000
TZOFFSETTO:+0000
TZNAME:UTC
DTSTART:20270101T000000
END:STANDARD
END:VTIMEZONE
BEGIN:VEVENT
DTSTART;TZID=UTC:20280101T090000
DTEND;TZID=UTC:20280101T120000
DTSTAMP:20260424T163049
CREATED:20240715T115600Z
LAST-MODIFIED:20240715T115701Z
UID:10000974-1830330000-1830340800@www.fenlandarchery.co.uk
SUMMARY:Attendance Saturdays
DESCRIPTION:
URL:https://www.fenlandarchery.co.uk/event/attendance-saturdays/2028-01-01/
CATEGORIES:Attendance Saturdays
END:VEVENT
BEGIN:VEVENT
DTSTART;TZID=UTC:20280104T190000
DTEND;TZID=UTC:20280104T210000
DTSTAMP:20260424T163049
CREATED:20240715T115513Z
LAST-MODIFIED:20240715T120042Z
UID:10001497-1830625200-1830632400@www.fenlandarchery.co.uk
SUMMARY:Attendance Tuesdays
DESCRIPTION:
URL:https://www.fenlandarchery.co.uk/event/attendance-tuesdays/2028-01-04/
CATEGORIES:Attendance Tuesdays
END:VEVENT
BEGIN:VEVENT
DTSTART;TZID=UTC:20280106T190000
DTEND;TZID=UTC:20280106T210000
DTSTAMP:20260424T163049
CREATED:20240715T115543Z
LAST-MODIFIED:20240715T115914Z
UID:10001236-1830798000-1830805200@www.fenlandarchery.co.uk
SUMMARY:Attendance Thursdays
DESCRIPTION:
URL:https://www.fenlandarchery.co.uk/event/attendance-thursdays/2028-01-06/
CATEGORIES:Attendance Thursdays
END:VEVENT
BEGIN:VEVENT
DTSTART;TZID=UTC:20280108T090000
DTEND;TZID=UTC:20280108T120000
DTSTAMP:20260424T163049
CREATED:20240715T115600Z
LAST-MODIFIED:20240715T115701Z
UID:10000975-1830934800-1830945600@www.fenlandarchery.co.uk
SUMMARY:Attendance Saturdays
DESCRIPTION:
URL:https://www.fenlandarchery.co.uk/event/attendance-saturdays/2028-01-08/
CATEGORIES:Attendance Saturdays
END:VEVENT
BEGIN:VEVENT
DTSTART;TZID=UTC:20280111T190000
DTEND;TZID=UTC:20280111T210000
DTSTAMP:20260424T163049
CREATED:20240715T115513Z
LAST-MODIFIED:20240715T120042Z
UID:10001498-1831230000-1831237200@www.fenlandarchery.co.uk
SUMMARY:Attendance Tuesdays
DESCRIPTION:
URL:https://www.fenlandarchery.co.uk/event/attendance-tuesdays/2028-01-11/
CATEGORIES:Attendance Tuesdays
END:VEVENT
BEGIN:VEVENT
DTSTART;TZID=UTC:20280113T190000
DTEND;TZID=UTC:20280113T210000
DTSTAMP:20260424T163049
CREATED:20240715T115543Z
LAST-MODIFIED:20240715T115914Z
UID:10001237-1831402800-1831410000@www.fenlandarchery.co.uk
SUMMARY:Attendance Thursdays
DESCRIPTION:
URL:https://www.fenlandarchery.co.uk/event/attendance-thursdays/2028-01-13/
CATEGORIES:Attendance Thursdays
END:VEVENT
BEGIN:VEVENT
DTSTART;TZID=UTC:20280115T090000
DTEND;TZID=UTC:20280115T120000
DTSTAMP:20260424T163049
CREATED:20240715T115600Z
LAST-MODIFIED:20240715T115701Z
UID:10000976-1831539600-1831550400@www.fenlandarchery.co.uk
SUMMARY:Attendance Saturdays
DESCRIPTION:
URL:https://www.fenlandarchery.co.uk/event/attendance-saturdays/2028-01-15/
CATEGORIES:Attendance Saturdays
END:VEVENT
BEGIN:VEVENT
DTSTART;TZID=UTC:20280118T190000
DTEND;TZID=UTC:20280118T210000
DTSTAMP:20260424T163049
CREATED:20240715T115513Z
LAST-MODIFIED:20240715T120042Z
UID:10001499-1831834800-1831842000@www.fenlandarchery.co.uk
SUMMARY:Attendance Tuesdays
DESCRIPTION:
URL:https://www.fenlandarchery.co.uk/event/attendance-tuesdays/2028-01-18/
CATEGORIES:Attendance Tuesdays
END:VEVENT
BEGIN:VEVENT
DTSTART;TZID=UTC:20280120T190000
DTEND;TZID=UTC:20280120T210000
DTSTAMP:20260424T163049
CREATED:20240715T115543Z
LAST-MODIFIED:20240715T115914Z
UID:10001238-1832007600-1832014800@www.fenlandarchery.co.uk
SUMMARY:Attendance Thursdays
DESCRIPTION:
URL:https://www.fenlandarchery.co.uk/event/attendance-thursdays/2028-01-20/
CATEGORIES:Attendance Thursdays
END:VEVENT
BEGIN:VEVENT
DTSTART;TZID=UTC:20280122T090000
DTEND;TZID=UTC:20280122T120000
DTSTAMP:20260424T163049
CREATED:20240715T115600Z
LAST-MODIFIED:20240715T115701Z
UID:10000977-1832144400-1832155200@www.fenlandarchery.co.uk
SUMMARY:Attendance Saturdays
DESCRIPTION:
URL:https://www.fenlandarchery.co.uk/event/attendance-saturdays/2028-01-22/
CATEGORIES:Attendance Saturdays
END:VEVENT
BEGIN:VEVENT
DTSTART;TZID=UTC:20280125T190000
DTEND;TZID=UTC:20280125T210000
DTSTAMP:20260424T163049
CREATED:20240715T115513Z
LAST-MODIFIED:20240715T120042Z
UID:10001500-1832439600-1832446800@www.fenlandarchery.co.uk
SUMMARY:Attendance Tuesdays
DESCRIPTION:
URL:https://www.fenlandarchery.co.uk/event/attendance-tuesdays/2028-01-25/
CATEGORIES:Attendance Tuesdays
END:VEVENT
BEGIN:VEVENT
DTSTART;TZID=UTC:20280127T190000
DTEND;TZID=UTC:20280127T210000
DTSTAMP:20260424T163049
CREATED:20240715T115543Z
LAST-MODIFIED:20240715T115914Z
UID:10001239-1832612400-1832619600@www.fenlandarchery.co.uk
SUMMARY:Attendance Thursdays
DESCRIPTION:
URL:https://www.fenlandarchery.co.uk/event/attendance-thursdays/2028-01-27/
CATEGORIES:Attendance Thursdays
END:VEVENT
BEGIN:VEVENT
DTSTART;TZID=UTC:20280129T090000
DTEND;TZID=UTC:20280129T120000
DTSTAMP:20260424T163049
CREATED:20240715T115600Z
LAST-MODIFIED:20240715T115701Z
UID:10000978-1832749200-1832760000@www.fenlandarchery.co.uk
SUMMARY:Attendance Saturdays
DESCRIPTION:
URL:https://www.fenlandarchery.co.uk/event/attendance-saturdays/2028-01-29/
CATEGORIES:Attendance Saturdays
END:VEVENT
BEGIN:VEVENT
DTSTART;TZID=UTC:20280201T190000
DTEND;TZID=UTC:20280201T210000
DTSTAMP:20260424T163049
CREATED:20240715T115513Z
LAST-MODIFIED:20240715T120042Z
UID:10001501-1833044400-1833051600@www.fenlandarchery.co.uk
SUMMARY:Attendance Tuesdays
DESCRIPTION:
URL:https://www.fenlandarchery.co.uk/event/attendance-tuesdays/2028-02-01/
CATEGORIES:Attendance Tuesdays
END:VEVENT
BEGIN:VEVENT
DTSTART;TZID=UTC:20280203T190000
DTEND;TZID=UTC:20280203T210000
DTSTAMP:20260424T163049
CREATED:20240715T115543Z
LAST-MODIFIED:20240715T115914Z
UID:10001240-1833217200-1833224400@www.fenlandarchery.co.uk
SUMMARY:Attendance Thursdays
DESCRIPTION:
URL:https://www.fenlandarchery.co.uk/event/attendance-thursdays/2028-02-03/
CATEGORIES:Attendance Thursdays
END:VEVENT
BEGIN:VEVENT
DTSTART;TZID=UTC:20280205T090000
DTEND;TZID=UTC:20280205T120000
DTSTAMP:20260424T163049
CREATED:20240715T115600Z
LAST-MODIFIED:20240715T115701Z
UID:10000979-1833354000-1833364800@www.fenlandarchery.co.uk
SUMMARY:Attendance Saturdays
DESCRIPTION:
URL:https://www.fenlandarchery.co.uk/event/attendance-saturdays/2028-02-05/
CATEGORIES:Attendance Saturdays
END:VEVENT
BEGIN:VEVENT
DTSTART;TZID=UTC:20280208T190000
DTEND;TZID=UTC:20280208T210000
DTSTAMP:20260424T163049
CREATED:20240715T115513Z
LAST-MODIFIED:20240715T120042Z
UID:10001502-1833649200-1833656400@www.fenlandarchery.co.uk
SUMMARY:Attendance Tuesdays
DESCRIPTION:
URL:https://www.fenlandarchery.co.uk/event/attendance-tuesdays/2028-02-08/
CATEGORIES:Attendance Tuesdays
END:VEVENT
BEGIN:VEVENT
DTSTART;TZID=UTC:20280210T190000
DTEND;TZID=UTC:20280210T210000
DTSTAMP:20260424T163049
CREATED:20240715T115543Z
LAST-MODIFIED:20240715T115914Z
UID:10001241-1833822000-1833829200@www.fenlandarchery.co.uk
SUMMARY:Attendance Thursdays
DESCRIPTION:
URL:https://www.fenlandarchery.co.uk/event/attendance-thursdays/2028-02-10/
CATEGORIES:Attendance Thursdays
END:VEVENT
BEGIN:VEVENT
DTSTART;TZID=UTC:20280212T090000
DTEND;TZID=UTC:20280212T120000
DTSTAMP:20260424T163049
CREATED:20240715T115600Z
LAST-MODIFIED:20240715T115701Z
UID:10000980-1833958800-1833969600@www.fenlandarchery.co.uk
SUMMARY:Attendance Saturdays
DESCRIPTION:
URL:https://www.fenlandarchery.co.uk/event/attendance-saturdays/2028-02-12/
CATEGORIES:Attendance Saturdays
END:VEVENT
BEGIN:VEVENT
DTSTART;TZID=UTC:20280215T190000
DTEND;TZID=UTC:20280215T210000
DTSTAMP:20260424T163049
CREATED:20240715T115513Z
LAST-MODIFIED:20240715T120042Z
UID:10001503-1834254000-1834261200@www.fenlandarchery.co.uk
SUMMARY:Attendance Tuesdays
DESCRIPTION:
URL:https://www.fenlandarchery.co.uk/event/attendance-tuesdays/2028-02-15/
CATEGORIES:Attendance Tuesdays
END:VEVENT
BEGIN:VEVENT
DTSTART;TZID=UTC:20280217T190000
DTEND;TZID=UTC:20280217T210000
DTSTAMP:20260424T163049
CREATED:20240715T115543Z
LAST-MODIFIED:20240715T115914Z
UID:10001242-1834426800-1834434000@www.fenlandarchery.co.uk
SUMMARY:Attendance Thursdays
DESCRIPTION:
URL:https://www.fenlandarchery.co.uk/event/attendance-thursdays/2028-02-17/
CATEGORIES:Attendance Thursdays
END:VEVENT
BEGIN:VEVENT
DTSTART;TZID=UTC:20280219T090000
DTEND;TZID=UTC:20280219T120000
DTSTAMP:20260424T163049
CREATED:20240715T115600Z
LAST-MODIFIED:20240715T115701Z
UID:10000981-1834563600-1834574400@www.fenlandarchery.co.uk
SUMMARY:Attendance Saturdays
DESCRIPTION:
URL:https://www.fenlandarchery.co.uk/event/attendance-saturdays/2028-02-19/
CATEGORIES:Attendance Saturdays
END:VEVENT
BEGIN:VEVENT
DTSTART;TZID=UTC:20280222T190000
DTEND;TZID=UTC:20280222T210000
DTSTAMP:20260424T163049
CREATED:20240715T115513Z
LAST-MODIFIED:20240715T120042Z
UID:10001504-1834858800-1834866000@www.fenlandarchery.co.uk
SUMMARY:Attendance Tuesdays
DESCRIPTION:
URL:https://www.fenlandarchery.co.uk/event/attendance-tuesdays/2028-02-22/
CATEGORIES:Attendance Tuesdays
END:VEVENT
BEGIN:VEVENT
DTSTART;TZID=UTC:20280224T190000
DTEND;TZID=UTC:20280224T210000
DTSTAMP:20260424T163049
CREATED:20240715T115543Z
LAST-MODIFIED:20240715T115914Z
UID:10001243-1835031600-1835038800@www.fenlandarchery.co.uk
SUMMARY:Attendance Thursdays
DESCRIPTION:
URL:https://www.fenlandarchery.co.uk/event/attendance-thursdays/2028-02-24/
CATEGORIES:Attendance Thursdays
END:VEVENT
BEGIN:VEVENT
DTSTART;TZID=UTC:20280226T090000
DTEND;TZID=UTC:20280226T120000
DTSTAMP:20260424T163049
CREATED:20240715T115600Z
LAST-MODIFIED:20240715T115701Z
UID:10000982-1835168400-1835179200@www.fenlandarchery.co.uk
SUMMARY:Attendance Saturdays
DESCRIPTION:
URL:https://www.fenlandarchery.co.uk/event/attendance-saturdays/2028-02-26/
CATEGORIES:Attendance Saturdays
END:VEVENT
BEGIN:VEVENT
DTSTART;TZID=UTC:20280229T190000
DTEND;TZID=UTC:20280229T210000
DTSTAMP:20260424T163049
CREATED:20240715T115513Z
LAST-MODIFIED:20240715T120042Z
UID:10001505-1835463600-1835470800@www.fenlandarchery.co.uk
SUMMARY:Attendance Tuesdays
DESCRIPTION:
URL:https://www.fenlandarchery.co.uk/event/attendance-tuesdays/2028-02-29/
CATEGORIES:Attendance Tuesdays
END:VEVENT
BEGIN:VEVENT
DTSTART;TZID=UTC:20280302T190000
DTEND;TZID=UTC:20280302T210000
DTSTAMP:20260424T163049
CREATED:20240715T115543Z
LAST-MODIFIED:20240715T115914Z
UID:10001244-1835636400-1835643600@www.fenlandarchery.co.uk
SUMMARY:Attendance Thursdays
DESCRIPTION:
URL:https://www.fenlandarchery.co.uk/event/attendance-thursdays/2028-03-02/
CATEGORIES:Attendance Thursdays
END:VEVENT
BEGIN:VEVENT
DTSTART;TZID=UTC:20280304T090000
DTEND;TZID=UTC:20280304T120000
DTSTAMP:20260424T163049
CREATED:20240715T115600Z
LAST-MODIFIED:20240715T115701Z
UID:10000983-1835773200-1835784000@www.fenlandarchery.co.uk
SUMMARY:Attendance Saturdays
DESCRIPTION:
URL:https://www.fenlandarchery.co.uk/event/attendance-saturdays/2028-03-04/
CATEGORIES:Attendance Saturdays
END:VEVENT
BEGIN:VEVENT
DTSTART;TZID=UTC:20280307T190000
DTEND;TZID=UTC:20280307T210000
DTSTAMP:20260424T163049
CREATED:20240715T115513Z
LAST-MODIFIED:20240715T120042Z
UID:10001506-1836068400-1836075600@www.fenlandarchery.co.uk
SUMMARY:Attendance Tuesdays
DESCRIPTION:
URL:https://www.fenlandarchery.co.uk/event/attendance-tuesdays/2028-03-07/
CATEGORIES:Attendance Tuesdays
END:VEVENT
BEGIN:VEVENT
DTSTART;TZID=UTC:20280309T190000
DTEND;TZID=UTC:20280309T210000
DTSTAMP:20260424T163049
CREATED:20240715T115543Z
LAST-MODIFIED:20240715T115914Z
UID:10001245-1836241200-1836248400@www.fenlandarchery.co.uk
SUMMARY:Attendance Thursdays
DESCRIPTION:
URL:https://www.fenlandarchery.co.uk/event/attendance-thursdays/2028-03-09/
CATEGORIES:Attendance Thursdays
END:VEVENT
END:VCALENDAR