BEGIN:VCALENDAR
VERSION:2.0
PRODID:-//Fenland Archery Club - ECPv6.15.20//NONSGML v1.0//EN
CALSCALE:GREGORIAN
METHOD:PUBLISH
X-ORIGINAL-URL:https://www.fenlandarchery.co.uk
X-WR-CALDESC:Events for Fenland Archery Club
REFRESH-INTERVAL;VALUE=DURATION:PT1H
X-Robots-Tag:noindex
X-PUBLISHED-TTL:PT1H
BEGIN:VTIMEZONE
TZID:UTC
BEGIN:STANDARD
TZOFFSETFROM:+0000
TZOFFSETTO:+0000
TZNAME:UTC
DTSTART:20260101T000000
END:STANDARD
END:VTIMEZONE
BEGIN:VEVENT
DTSTART;TZID=UTC:20271106T090000
DTEND;TZID=UTC:20271106T120000
DTSTAMP:20260424T113612
CREATED:20240715T115600Z
LAST-MODIFIED:20240715T115701Z
UID:10000966-1825491600-1825502400@www.fenlandarchery.co.uk
SUMMARY:Attendance Saturdays
DESCRIPTION:
URL:https://www.fenlandarchery.co.uk/event/attendance-saturdays/2027-11-06/
CATEGORIES:Attendance Saturdays
END:VEVENT
BEGIN:VEVENT
DTSTART;TZID=UTC:20271109T190000
DTEND;TZID=UTC:20271109T210000
DTSTAMP:20260424T113612
CREATED:20240715T115513Z
LAST-MODIFIED:20240715T120042Z
UID:10001489-1825786800-1825794000@www.fenlandarchery.co.uk
SUMMARY:Attendance Tuesdays
DESCRIPTION:
URL:https://www.fenlandarchery.co.uk/event/attendance-tuesdays/2027-11-09/
CATEGORIES:Attendance Tuesdays
END:VEVENT
BEGIN:VEVENT
DTSTART;TZID=UTC:20271111T190000
DTEND;TZID=UTC:20271111T210000
DTSTAMP:20260424T113612
CREATED:20240715T115543Z
LAST-MODIFIED:20240715T115914Z
UID:10001228-1825959600-1825966800@www.fenlandarchery.co.uk
SUMMARY:Attendance Thursdays
DESCRIPTION:
URL:https://www.fenlandarchery.co.uk/event/attendance-thursdays/2027-11-11/
CATEGORIES:Attendance Thursdays
END:VEVENT
BEGIN:VEVENT
DTSTART;TZID=UTC:20271113T090000
DTEND;TZID=UTC:20271113T120000
DTSTAMP:20260424T113612
CREATED:20240715T115600Z
LAST-MODIFIED:20240715T115701Z
UID:10000967-1826096400-1826107200@www.fenlandarchery.co.uk
SUMMARY:Attendance Saturdays
DESCRIPTION:
URL:https://www.fenlandarchery.co.uk/event/attendance-saturdays/2027-11-13/
CATEGORIES:Attendance Saturdays
END:VEVENT
BEGIN:VEVENT
DTSTART;TZID=UTC:20271116T190000
DTEND;TZID=UTC:20271116T210000
DTSTAMP:20260424T113612
CREATED:20240715T115513Z
LAST-MODIFIED:20240715T120042Z
UID:10001490-1826391600-1826398800@www.fenlandarchery.co.uk
SUMMARY:Attendance Tuesdays
DESCRIPTION:
URL:https://www.fenlandarchery.co.uk/event/attendance-tuesdays/2027-11-16/
CATEGORIES:Attendance Tuesdays
END:VEVENT
BEGIN:VEVENT
DTSTART;TZID=UTC:20271118T190000
DTEND;TZID=UTC:20271118T210000
DTSTAMP:20260424T113612
CREATED:20240715T115543Z
LAST-MODIFIED:20240715T115914Z
UID:10001229-1826564400-1826571600@www.fenlandarchery.co.uk
SUMMARY:Attendance Thursdays
DESCRIPTION:
URL:https://www.fenlandarchery.co.uk/event/attendance-thursdays/2027-11-18/
CATEGORIES:Attendance Thursdays
END:VEVENT
BEGIN:VEVENT
DTSTART;TZID=UTC:20271120T090000
DTEND;TZID=UTC:20271120T120000
DTSTAMP:20260424T113612
CREATED:20240715T115600Z
LAST-MODIFIED:20240715T115701Z
UID:10000968-1826701200-1826712000@www.fenlandarchery.co.uk
SUMMARY:Attendance Saturdays
DESCRIPTION:
URL:https://www.fenlandarchery.co.uk/event/attendance-saturdays/2027-11-20/
CATEGORIES:Attendance Saturdays
END:VEVENT
BEGIN:VEVENT
DTSTART;TZID=UTC:20271123T190000
DTEND;TZID=UTC:20271123T210000
DTSTAMP:20260424T113612
CREATED:20240715T115513Z
LAST-MODIFIED:20240715T120042Z
UID:10001491-1826996400-1827003600@www.fenlandarchery.co.uk
SUMMARY:Attendance Tuesdays
DESCRIPTION:
URL:https://www.fenlandarchery.co.uk/event/attendance-tuesdays/2027-11-23/
CATEGORIES:Attendance Tuesdays
END:VEVENT
BEGIN:VEVENT
DTSTART;TZID=UTC:20271125T190000
DTEND;TZID=UTC:20271125T210000
DTSTAMP:20260424T113612
CREATED:20240715T115543Z
LAST-MODIFIED:20240715T115914Z
UID:10001230-1827169200-1827176400@www.fenlandarchery.co.uk
SUMMARY:Attendance Thursdays
DESCRIPTION:
URL:https://www.fenlandarchery.co.uk/event/attendance-thursdays/2027-11-25/
CATEGORIES:Attendance Thursdays
END:VEVENT
BEGIN:VEVENT
DTSTART;TZID=UTC:20271127T090000
DTEND;TZID=UTC:20271127T120000
DTSTAMP:20260424T113612
CREATED:20240715T115600Z
LAST-MODIFIED:20240715T115701Z
UID:10000969-1827306000-1827316800@www.fenlandarchery.co.uk
SUMMARY:Attendance Saturdays
DESCRIPTION:
URL:https://www.fenlandarchery.co.uk/event/attendance-saturdays/2027-11-27/
CATEGORIES:Attendance Saturdays
END:VEVENT
BEGIN:VEVENT
DTSTART;TZID=UTC:20271130T190000
DTEND;TZID=UTC:20271130T210000
DTSTAMP:20260424T113612
CREATED:20240715T115513Z
LAST-MODIFIED:20240715T120042Z
UID:10001492-1827601200-1827608400@www.fenlandarchery.co.uk
SUMMARY:Attendance Tuesdays
DESCRIPTION:
URL:https://www.fenlandarchery.co.uk/event/attendance-tuesdays/2027-11-30/
CATEGORIES:Attendance Tuesdays
END:VEVENT
BEGIN:VEVENT
DTSTART;TZID=UTC:20271202T190000
DTEND;TZID=UTC:20271202T210000
DTSTAMP:20260424T113612
CREATED:20240715T115543Z
LAST-MODIFIED:20240715T115914Z
UID:10001231-1827774000-1827781200@www.fenlandarchery.co.uk
SUMMARY:Attendance Thursdays
DESCRIPTION:
URL:https://www.fenlandarchery.co.uk/event/attendance-thursdays/2027-12-02/
CATEGORIES:Attendance Thursdays
END:VEVENT
BEGIN:VEVENT
DTSTART;TZID=UTC:20271204T090000
DTEND;TZID=UTC:20271204T120000
DTSTAMP:20260424T113612
CREATED:20240715T115600Z
LAST-MODIFIED:20240715T115701Z
UID:10000970-1827910800-1827921600@www.fenlandarchery.co.uk
SUMMARY:Attendance Saturdays
DESCRIPTION:
URL:https://www.fenlandarchery.co.uk/event/attendance-saturdays/2027-12-04/
CATEGORIES:Attendance Saturdays
END:VEVENT
BEGIN:VEVENT
DTSTART;TZID=UTC:20271207T190000
DTEND;TZID=UTC:20271207T210000
DTSTAMP:20260424T113612
CREATED:20240715T115513Z
LAST-MODIFIED:20240715T120042Z
UID:10001493-1828206000-1828213200@www.fenlandarchery.co.uk
SUMMARY:Attendance Tuesdays
DESCRIPTION:
URL:https://www.fenlandarchery.co.uk/event/attendance-tuesdays/2027-12-07/
CATEGORIES:Attendance Tuesdays
END:VEVENT
BEGIN:VEVENT
DTSTART;TZID=UTC:20271209T190000
DTEND;TZID=UTC:20271209T210000
DTSTAMP:20260424T113612
CREATED:20240715T115543Z
LAST-MODIFIED:20240715T115914Z
UID:10001232-1828378800-1828386000@www.fenlandarchery.co.uk
SUMMARY:Attendance Thursdays
DESCRIPTION:
URL:https://www.fenlandarchery.co.uk/event/attendance-thursdays/2027-12-09/
CATEGORIES:Attendance Thursdays
END:VEVENT
BEGIN:VEVENT
DTSTART;TZID=UTC:20271211T090000
DTEND;TZID=UTC:20271211T120000
DTSTAMP:20260424T113612
CREATED:20240715T115600Z
LAST-MODIFIED:20240715T115701Z
UID:10000971-1828515600-1828526400@www.fenlandarchery.co.uk
SUMMARY:Attendance Saturdays
DESCRIPTION:
URL:https://www.fenlandarchery.co.uk/event/attendance-saturdays/2027-12-11/
CATEGORIES:Attendance Saturdays
END:VEVENT
BEGIN:VEVENT
DTSTART;TZID=UTC:20271214T190000
DTEND;TZID=UTC:20271214T210000
DTSTAMP:20260424T113612
CREATED:20240715T115513Z
LAST-MODIFIED:20240715T120042Z
UID:10001494-1828810800-1828818000@www.fenlandarchery.co.uk
SUMMARY:Attendance Tuesdays
DESCRIPTION:
URL:https://www.fenlandarchery.co.uk/event/attendance-tuesdays/2027-12-14/
CATEGORIES:Attendance Tuesdays
END:VEVENT
BEGIN:VEVENT
DTSTART;TZID=UTC:20271216T190000
DTEND;TZID=UTC:20271216T210000
DTSTAMP:20260424T113612
CREATED:20240715T115543Z
LAST-MODIFIED:20240715T115914Z
UID:10001233-1828983600-1828990800@www.fenlandarchery.co.uk
SUMMARY:Attendance Thursdays
DESCRIPTION:
URL:https://www.fenlandarchery.co.uk/event/attendance-thursdays/2027-12-16/
CATEGORIES:Attendance Thursdays
END:VEVENT
BEGIN:VEVENT
DTSTART;TZID=UTC:20271218T090000
DTEND;TZID=UTC:20271218T120000
DTSTAMP:20260424T113612
CREATED:20240715T115600Z
LAST-MODIFIED:20240715T115701Z
UID:10000972-1829120400-1829131200@www.fenlandarchery.co.uk
SUMMARY:Attendance Saturdays
DESCRIPTION:
URL:https://www.fenlandarchery.co.uk/event/attendance-saturdays/2027-12-18/
CATEGORIES:Attendance Saturdays
END:VEVENT
BEGIN:VEVENT
DTSTART;TZID=UTC:20271221T190000
DTEND;TZID=UTC:20271221T210000
DTSTAMP:20260424T113612
CREATED:20240715T115513Z
LAST-MODIFIED:20240715T120042Z
UID:10001495-1829415600-1829422800@www.fenlandarchery.co.uk
SUMMARY:Attendance Tuesdays
DESCRIPTION:
URL:https://www.fenlandarchery.co.uk/event/attendance-tuesdays/2027-12-21/
CATEGORIES:Attendance Tuesdays
END:VEVENT
BEGIN:VEVENT
DTSTART;TZID=UTC:20271223T190000
DTEND;TZID=UTC:20271223T210000
DTSTAMP:20260424T113612
CREATED:20240715T115543Z
LAST-MODIFIED:20240715T115914Z
UID:10001234-1829588400-1829595600@www.fenlandarchery.co.uk
SUMMARY:Attendance Thursdays
DESCRIPTION:
URL:https://www.fenlandarchery.co.uk/event/attendance-thursdays/2027-12-23/
CATEGORIES:Attendance Thursdays
END:VEVENT
BEGIN:VEVENT
DTSTART;TZID=UTC:20271225T090000
DTEND;TZID=UTC:20271225T120000
DTSTAMP:20260424T113612
CREATED:20240715T115600Z
LAST-MODIFIED:20240715T115701Z
UID:10000973-1829725200-1829736000@www.fenlandarchery.co.uk
SUMMARY:Attendance Saturdays
DESCRIPTION:
URL:https://www.fenlandarchery.co.uk/event/attendance-saturdays/2027-12-25/
CATEGORIES:Attendance Saturdays
END:VEVENT
BEGIN:VEVENT
DTSTART;TZID=UTC:20271228T190000
DTEND;TZID=UTC:20271228T210000
DTSTAMP:20260424T113612
CREATED:20240715T115513Z
LAST-MODIFIED:20240715T120042Z
UID:10001496-1830020400-1830027600@www.fenlandarchery.co.uk
SUMMARY:Attendance Tuesdays
DESCRIPTION:
URL:https://www.fenlandarchery.co.uk/event/attendance-tuesdays/2027-12-28/
CATEGORIES:Attendance Tuesdays
END:VEVENT
BEGIN:VEVENT
DTSTART;TZID=UTC:20271230T190000
DTEND;TZID=UTC:20271230T210000
DTSTAMP:20260424T113612
CREATED:20240715T115543Z
LAST-MODIFIED:20240715T115914Z
UID:10001235-1830193200-1830200400@www.fenlandarchery.co.uk
SUMMARY:Attendance Thursdays
DESCRIPTION:
URL:https://www.fenlandarchery.co.uk/event/attendance-thursdays/2027-12-30/
CATEGORIES:Attendance Thursdays
END:VEVENT
BEGIN:VEVENT
DTSTART;TZID=UTC:20280101T090000
DTEND;TZID=UTC:20280101T120000
DTSTAMP:20260424T113612
CREATED:20240715T115600Z
LAST-MODIFIED:20240715T115701Z
UID:10000974-1830330000-1830340800@www.fenlandarchery.co.uk
SUMMARY:Attendance Saturdays
DESCRIPTION:
URL:https://www.fenlandarchery.co.uk/event/attendance-saturdays/2028-01-01/
CATEGORIES:Attendance Saturdays
END:VEVENT
BEGIN:VEVENT
DTSTART;TZID=UTC:20280104T190000
DTEND;TZID=UTC:20280104T210000
DTSTAMP:20260424T113612
CREATED:20240715T115513Z
LAST-MODIFIED:20240715T120042Z
UID:10001497-1830625200-1830632400@www.fenlandarchery.co.uk
SUMMARY:Attendance Tuesdays
DESCRIPTION:
URL:https://www.fenlandarchery.co.uk/event/attendance-tuesdays/2028-01-04/
CATEGORIES:Attendance Tuesdays
END:VEVENT
BEGIN:VEVENT
DTSTART;TZID=UTC:20280106T190000
DTEND;TZID=UTC:20280106T210000
DTSTAMP:20260424T113612
CREATED:20240715T115543Z
LAST-MODIFIED:20240715T115914Z
UID:10001236-1830798000-1830805200@www.fenlandarchery.co.uk
SUMMARY:Attendance Thursdays
DESCRIPTION:
URL:https://www.fenlandarchery.co.uk/event/attendance-thursdays/2028-01-06/
CATEGORIES:Attendance Thursdays
END:VEVENT
BEGIN:VEVENT
DTSTART;TZID=UTC:20280108T090000
DTEND;TZID=UTC:20280108T120000
DTSTAMP:20260424T113612
CREATED:20240715T115600Z
LAST-MODIFIED:20240715T115701Z
UID:10000975-1830934800-1830945600@www.fenlandarchery.co.uk
SUMMARY:Attendance Saturdays
DESCRIPTION:
URL:https://www.fenlandarchery.co.uk/event/attendance-saturdays/2028-01-08/
CATEGORIES:Attendance Saturdays
END:VEVENT
BEGIN:VEVENT
DTSTART;TZID=UTC:20280111T190000
DTEND;TZID=UTC:20280111T210000
DTSTAMP:20260424T113612
CREATED:20240715T115513Z
LAST-MODIFIED:20240715T120042Z
UID:10001498-1831230000-1831237200@www.fenlandarchery.co.uk
SUMMARY:Attendance Tuesdays
DESCRIPTION:
URL:https://www.fenlandarchery.co.uk/event/attendance-tuesdays/2028-01-11/
CATEGORIES:Attendance Tuesdays
END:VEVENT
BEGIN:VEVENT
DTSTART;TZID=UTC:20280113T190000
DTEND;TZID=UTC:20280113T210000
DTSTAMP:20260424T113612
CREATED:20240715T115543Z
LAST-MODIFIED:20240715T115914Z
UID:10001237-1831402800-1831410000@www.fenlandarchery.co.uk
SUMMARY:Attendance Thursdays
DESCRIPTION:
URL:https://www.fenlandarchery.co.uk/event/attendance-thursdays/2028-01-13/
CATEGORIES:Attendance Thursdays
END:VEVENT
END:VCALENDAR