BEGIN:VCALENDAR
VERSION:2.0
PRODID:-//Fenland Archery Club - ECPv6.15.20//NONSGML v1.0//EN
CALSCALE:GREGORIAN
METHOD:PUBLISH
X-ORIGINAL-URL:https://www.fenlandarchery.co.uk
X-WR-CALDESC:Events for Fenland Archery Club
REFRESH-INTERVAL;VALUE=DURATION:PT1H
X-Robots-Tag:noindex
X-PUBLISHED-TTL:PT1H
BEGIN:VTIMEZONE
TZID:UTC
BEGIN:STANDARD
TZOFFSETFROM:+0000
TZOFFSETTO:+0000
TZNAME:UTC
DTSTART:20270101T000000
END:STANDARD
END:VTIMEZONE
BEGIN:VEVENT
DTSTART;TZID=UTC:20280422T090000
DTEND;TZID=UTC:20280422T120000
DTSTAMP:20260425T002249
CREATED:20240715T115600Z
LAST-MODIFIED:20240715T115701Z
UID:10000990-1840006800-1840017600@www.fenlandarchery.co.uk
SUMMARY:Attendance Saturdays
DESCRIPTION:
URL:https://www.fenlandarchery.co.uk/event/attendance-saturdays/2028-04-22/
CATEGORIES:Attendance Saturdays
END:VEVENT
BEGIN:VEVENT
DTSTART;TZID=UTC:20280425T190000
DTEND;TZID=UTC:20280425T210000
DTSTAMP:20260425T002249
CREATED:20240715T115513Z
LAST-MODIFIED:20240715T120042Z
UID:10001513-1840302000-1840309200@www.fenlandarchery.co.uk
SUMMARY:Attendance Tuesdays
DESCRIPTION:
URL:https://www.fenlandarchery.co.uk/event/attendance-tuesdays/2028-04-25/
CATEGORIES:Attendance Tuesdays
END:VEVENT
BEGIN:VEVENT
DTSTART;TZID=UTC:20280427T190000
DTEND;TZID=UTC:20280427T210000
DTSTAMP:20260425T002249
CREATED:20240715T115543Z
LAST-MODIFIED:20240715T115914Z
UID:10001252-1840474800-1840482000@www.fenlandarchery.co.uk
SUMMARY:Attendance Thursdays
DESCRIPTION:
URL:https://www.fenlandarchery.co.uk/event/attendance-thursdays/2028-04-27/
CATEGORIES:Attendance Thursdays
END:VEVENT
BEGIN:VEVENT
DTSTART;TZID=UTC:20280429T090000
DTEND;TZID=UTC:20280429T120000
DTSTAMP:20260425T002249
CREATED:20240715T115600Z
LAST-MODIFIED:20240715T115701Z
UID:10000991-1840611600-1840622400@www.fenlandarchery.co.uk
SUMMARY:Attendance Saturdays
DESCRIPTION:
URL:https://www.fenlandarchery.co.uk/event/attendance-saturdays/2028-04-29/
CATEGORIES:Attendance Saturdays
END:VEVENT
BEGIN:VEVENT
DTSTART;TZID=UTC:20280502T190000
DTEND;TZID=UTC:20280502T210000
DTSTAMP:20260425T002249
CREATED:20240715T115513Z
LAST-MODIFIED:20240715T120042Z
UID:10001514-1840906800-1840914000@www.fenlandarchery.co.uk
SUMMARY:Attendance Tuesdays
DESCRIPTION:
URL:https://www.fenlandarchery.co.uk/event/attendance-tuesdays/2028-05-02/
CATEGORIES:Attendance Tuesdays
END:VEVENT
BEGIN:VEVENT
DTSTART;TZID=UTC:20280504T190000
DTEND;TZID=UTC:20280504T210000
DTSTAMP:20260425T002249
CREATED:20240715T115543Z
LAST-MODIFIED:20240715T115914Z
UID:10001253-1841079600-1841086800@www.fenlandarchery.co.uk
SUMMARY:Attendance Thursdays
DESCRIPTION:
URL:https://www.fenlandarchery.co.uk/event/attendance-thursdays/2028-05-04/
CATEGORIES:Attendance Thursdays
END:VEVENT
BEGIN:VEVENT
DTSTART;TZID=UTC:20280506T090000
DTEND;TZID=UTC:20280506T120000
DTSTAMP:20260425T002249
CREATED:20240715T115600Z
LAST-MODIFIED:20240715T115701Z
UID:10000992-1841216400-1841227200@www.fenlandarchery.co.uk
SUMMARY:Attendance Saturdays
DESCRIPTION:
URL:https://www.fenlandarchery.co.uk/event/attendance-saturdays/2028-05-06/
CATEGORIES:Attendance Saturdays
END:VEVENT
BEGIN:VEVENT
DTSTART;TZID=UTC:20280509T190000
DTEND;TZID=UTC:20280509T210000
DTSTAMP:20260425T002249
CREATED:20240715T115513Z
LAST-MODIFIED:20240715T120042Z
UID:10001515-1841511600-1841518800@www.fenlandarchery.co.uk
SUMMARY:Attendance Tuesdays
DESCRIPTION:
URL:https://www.fenlandarchery.co.uk/event/attendance-tuesdays/2028-05-09/
CATEGORIES:Attendance Tuesdays
END:VEVENT
BEGIN:VEVENT
DTSTART;TZID=UTC:20280511T190000
DTEND;TZID=UTC:20280511T210000
DTSTAMP:20260425T002249
CREATED:20240715T115543Z
LAST-MODIFIED:20240715T115914Z
UID:10001254-1841684400-1841691600@www.fenlandarchery.co.uk
SUMMARY:Attendance Thursdays
DESCRIPTION:
URL:https://www.fenlandarchery.co.uk/event/attendance-thursdays/2028-05-11/
CATEGORIES:Attendance Thursdays
END:VEVENT
BEGIN:VEVENT
DTSTART;TZID=UTC:20280513T090000
DTEND;TZID=UTC:20280513T120000
DTSTAMP:20260425T002249
CREATED:20240715T115600Z
LAST-MODIFIED:20240715T115701Z
UID:10000993-1841821200-1841832000@www.fenlandarchery.co.uk
SUMMARY:Attendance Saturdays
DESCRIPTION:
URL:https://www.fenlandarchery.co.uk/event/attendance-saturdays/2028-05-13/
CATEGORIES:Attendance Saturdays
END:VEVENT
BEGIN:VEVENT
DTSTART;TZID=UTC:20280516T190000
DTEND;TZID=UTC:20280516T210000
DTSTAMP:20260425T002249
CREATED:20240715T115513Z
LAST-MODIFIED:20240715T120042Z
UID:10001516-1842116400-1842123600@www.fenlandarchery.co.uk
SUMMARY:Attendance Tuesdays
DESCRIPTION:
URL:https://www.fenlandarchery.co.uk/event/attendance-tuesdays/2028-05-16/
CATEGORIES:Attendance Tuesdays
END:VEVENT
BEGIN:VEVENT
DTSTART;TZID=UTC:20280518T190000
DTEND;TZID=UTC:20280518T210000
DTSTAMP:20260425T002249
CREATED:20240715T115543Z
LAST-MODIFIED:20240715T115914Z
UID:10001255-1842289200-1842296400@www.fenlandarchery.co.uk
SUMMARY:Attendance Thursdays
DESCRIPTION:
URL:https://www.fenlandarchery.co.uk/event/attendance-thursdays/2028-05-18/
CATEGORIES:Attendance Thursdays
END:VEVENT
BEGIN:VEVENT
DTSTART;TZID=UTC:20280520T090000
DTEND;TZID=UTC:20280520T120000
DTSTAMP:20260425T002249
CREATED:20240715T115600Z
LAST-MODIFIED:20240715T115701Z
UID:10000994-1842426000-1842436800@www.fenlandarchery.co.uk
SUMMARY:Attendance Saturdays
DESCRIPTION:
URL:https://www.fenlandarchery.co.uk/event/attendance-saturdays/2028-05-20/
CATEGORIES:Attendance Saturdays
END:VEVENT
BEGIN:VEVENT
DTSTART;TZID=UTC:20280523T190000
DTEND;TZID=UTC:20280523T210000
DTSTAMP:20260425T002249
CREATED:20240715T115513Z
LAST-MODIFIED:20240715T120042Z
UID:10001517-1842721200-1842728400@www.fenlandarchery.co.uk
SUMMARY:Attendance Tuesdays
DESCRIPTION:
URL:https://www.fenlandarchery.co.uk/event/attendance-tuesdays/2028-05-23/
CATEGORIES:Attendance Tuesdays
END:VEVENT
BEGIN:VEVENT
DTSTART;TZID=UTC:20280525T190000
DTEND;TZID=UTC:20280525T210000
DTSTAMP:20260425T002249
CREATED:20240715T115543Z
LAST-MODIFIED:20240715T115914Z
UID:10001256-1842894000-1842901200@www.fenlandarchery.co.uk
SUMMARY:Attendance Thursdays
DESCRIPTION:
URL:https://www.fenlandarchery.co.uk/event/attendance-thursdays/2028-05-25/
CATEGORIES:Attendance Thursdays
END:VEVENT
BEGIN:VEVENT
DTSTART;TZID=UTC:20280527T090000
DTEND;TZID=UTC:20280527T120000
DTSTAMP:20260425T002249
CREATED:20240715T115600Z
LAST-MODIFIED:20240715T115701Z
UID:10000995-1843030800-1843041600@www.fenlandarchery.co.uk
SUMMARY:Attendance Saturdays
DESCRIPTION:
URL:https://www.fenlandarchery.co.uk/event/attendance-saturdays/2028-05-27/
CATEGORIES:Attendance Saturdays
END:VEVENT
BEGIN:VEVENT
DTSTART;TZID=UTC:20280530T190000
DTEND;TZID=UTC:20280530T210000
DTSTAMP:20260425T002249
CREATED:20240715T115513Z
LAST-MODIFIED:20240715T120042Z
UID:10001518-1843326000-1843333200@www.fenlandarchery.co.uk
SUMMARY:Attendance Tuesdays
DESCRIPTION:
URL:https://www.fenlandarchery.co.uk/event/attendance-tuesdays/2028-05-30/
CATEGORIES:Attendance Tuesdays
END:VEVENT
BEGIN:VEVENT
DTSTART;TZID=UTC:20280601T190000
DTEND;TZID=UTC:20280601T210000
DTSTAMP:20260425T002249
CREATED:20240715T115543Z
LAST-MODIFIED:20240715T115914Z
UID:10001257-1843498800-1843506000@www.fenlandarchery.co.uk
SUMMARY:Attendance Thursdays
DESCRIPTION:
URL:https://www.fenlandarchery.co.uk/event/attendance-thursdays/2028-06-01/
CATEGORIES:Attendance Thursdays
END:VEVENT
BEGIN:VEVENT
DTSTART;TZID=UTC:20280603T090000
DTEND;TZID=UTC:20280603T120000
DTSTAMP:20260425T002249
CREATED:20240715T115600Z
LAST-MODIFIED:20240715T115701Z
UID:10000996-1843635600-1843646400@www.fenlandarchery.co.uk
SUMMARY:Attendance Saturdays
DESCRIPTION:
URL:https://www.fenlandarchery.co.uk/event/attendance-saturdays/2028-06-03/
CATEGORIES:Attendance Saturdays
END:VEVENT
BEGIN:VEVENT
DTSTART;TZID=UTC:20280606T190000
DTEND;TZID=UTC:20280606T210000
DTSTAMP:20260425T002249
CREATED:20240715T115513Z
LAST-MODIFIED:20240715T120042Z
UID:10001519-1843930800-1843938000@www.fenlandarchery.co.uk
SUMMARY:Attendance Tuesdays
DESCRIPTION:
URL:https://www.fenlandarchery.co.uk/event/attendance-tuesdays/2028-06-06/
CATEGORIES:Attendance Tuesdays
END:VEVENT
BEGIN:VEVENT
DTSTART;TZID=UTC:20280608T190000
DTEND;TZID=UTC:20280608T210000
DTSTAMP:20260425T002249
CREATED:20240715T115543Z
LAST-MODIFIED:20240715T115914Z
UID:10001258-1844103600-1844110800@www.fenlandarchery.co.uk
SUMMARY:Attendance Thursdays
DESCRIPTION:
URL:https://www.fenlandarchery.co.uk/event/attendance-thursdays/2028-06-08/
CATEGORIES:Attendance Thursdays
END:VEVENT
BEGIN:VEVENT
DTSTART;TZID=UTC:20280610T090000
DTEND;TZID=UTC:20280610T120000
DTSTAMP:20260425T002249
CREATED:20240715T115600Z
LAST-MODIFIED:20240715T115701Z
UID:10000997-1844240400-1844251200@www.fenlandarchery.co.uk
SUMMARY:Attendance Saturdays
DESCRIPTION:
URL:https://www.fenlandarchery.co.uk/event/attendance-saturdays/2028-06-10/
CATEGORIES:Attendance Saturdays
END:VEVENT
BEGIN:VEVENT
DTSTART;TZID=UTC:20280613T190000
DTEND;TZID=UTC:20280613T210000
DTSTAMP:20260425T002249
CREATED:20240715T115513Z
LAST-MODIFIED:20240715T120042Z
UID:10001520-1844535600-1844542800@www.fenlandarchery.co.uk
SUMMARY:Attendance Tuesdays
DESCRIPTION:
URL:https://www.fenlandarchery.co.uk/event/attendance-tuesdays/2028-06-13/
CATEGORIES:Attendance Tuesdays
END:VEVENT
BEGIN:VEVENT
DTSTART;TZID=UTC:20280615T190000
DTEND;TZID=UTC:20280615T210000
DTSTAMP:20260425T002249
CREATED:20240715T115543Z
LAST-MODIFIED:20240715T115914Z
UID:10001259-1844708400-1844715600@www.fenlandarchery.co.uk
SUMMARY:Attendance Thursdays
DESCRIPTION:
URL:https://www.fenlandarchery.co.uk/event/attendance-thursdays/2028-06-15/
CATEGORIES:Attendance Thursdays
END:VEVENT
BEGIN:VEVENT
DTSTART;TZID=UTC:20280617T090000
DTEND;TZID=UTC:20280617T120000
DTSTAMP:20260425T002249
CREATED:20240715T115600Z
LAST-MODIFIED:20240715T115701Z
UID:10000998-1844845200-1844856000@www.fenlandarchery.co.uk
SUMMARY:Attendance Saturdays
DESCRIPTION:
URL:https://www.fenlandarchery.co.uk/event/attendance-saturdays/2028-06-17/
CATEGORIES:Attendance Saturdays
END:VEVENT
BEGIN:VEVENT
DTSTART;TZID=UTC:20280620T190000
DTEND;TZID=UTC:20280620T210000
DTSTAMP:20260425T002249
CREATED:20240715T115513Z
LAST-MODIFIED:20240715T120042Z
UID:10001521-1845140400-1845147600@www.fenlandarchery.co.uk
SUMMARY:Attendance Tuesdays
DESCRIPTION:
URL:https://www.fenlandarchery.co.uk/event/attendance-tuesdays/2028-06-20/
CATEGORIES:Attendance Tuesdays
END:VEVENT
BEGIN:VEVENT
DTSTART;TZID=UTC:20280622T190000
DTEND;TZID=UTC:20280622T210000
DTSTAMP:20260425T002249
CREATED:20240715T115543Z
LAST-MODIFIED:20240715T115914Z
UID:10001260-1845313200-1845320400@www.fenlandarchery.co.uk
SUMMARY:Attendance Thursdays
DESCRIPTION:
URL:https://www.fenlandarchery.co.uk/event/attendance-thursdays/2028-06-22/
CATEGORIES:Attendance Thursdays
END:VEVENT
BEGIN:VEVENT
DTSTART;TZID=UTC:20280624T090000
DTEND;TZID=UTC:20280624T120000
DTSTAMP:20260425T002249
CREATED:20240715T115600Z
LAST-MODIFIED:20240715T115701Z
UID:10000999-1845450000-1845460800@www.fenlandarchery.co.uk
SUMMARY:Attendance Saturdays
DESCRIPTION:
URL:https://www.fenlandarchery.co.uk/event/attendance-saturdays/2028-06-24/
CATEGORIES:Attendance Saturdays
END:VEVENT
BEGIN:VEVENT
DTSTART;TZID=UTC:20280627T190000
DTEND;TZID=UTC:20280627T210000
DTSTAMP:20260425T002249
CREATED:20240715T115513Z
LAST-MODIFIED:20240715T120042Z
UID:10001522-1845745200-1845752400@www.fenlandarchery.co.uk
SUMMARY:Attendance Tuesdays
DESCRIPTION:
URL:https://www.fenlandarchery.co.uk/event/attendance-tuesdays/2028-06-27/
CATEGORIES:Attendance Tuesdays
END:VEVENT
BEGIN:VEVENT
DTSTART;TZID=UTC:20280629T190000
DTEND;TZID=UTC:20280629T210000
DTSTAMP:20260425T002249
CREATED:20240715T115543Z
LAST-MODIFIED:20240715T115914Z
UID:10001261-1845918000-1845925200@www.fenlandarchery.co.uk
SUMMARY:Attendance Thursdays
DESCRIPTION:
URL:https://www.fenlandarchery.co.uk/event/attendance-thursdays/2028-06-29/
CATEGORIES:Attendance Thursdays
END:VEVENT
END:VCALENDAR